{"text_format":"1","workbook":"xlsx","n_sheets":10,"sheets":["Identif","I.den SR","I.den cudz","I.ext SR","I.ext cudz","II.,III.","IV.den","IV.ext","V.,VI.","V11a"],"not_rendered":{"charts":0,"images":7,"macros":1,"external_links":0,"defined_names":7,"comments":0,"pivot_tables":0},"unopened":[],"bounds":{"document_bytes":16777216,"sheet_cells":100000,"rows_first":2000,"rows_last":500,"rows_between":2000,"halvings":0,"cell_chars":16384,"cell_head_chars":4096},"cells_cut":0,"cells_raw":0,"read":"whole","date_system":"1900"}

{"sheet":"Identif","index":0,"n_rows":33,"n_cols":53,"rows_kept":33,"cut":false,"hidden":false,"merged":[[3,47,3,50],[9,17,9,33],[3,32,3,35],[3,36,3,37],[3,38,3,46],[5,32,5,51],[0,32,0,50],[1,32,2,35],[1,36,1,37],[1,38,1,46],[1,47,2,50],[2,36,2,37],[2,38,2,46],[11,1,11,8],[13,1,13,8],[15,1,15,8],[17,1,17,8],[11,9,11,52],[13,9,13,52],[15,9,15,44],[15,45,15,47],[15,48,15,52],[17,9,17,52],[19,10,19,28],[19,32,19,52],[32,1,32,52],[28,0,28,52],[29,0,29,52],[20,1,20,6],[20,10,20,28],[20,32,20,52],[26,0,26,7],[26,8,26,13],[26,32,26,52],[23,32,23,46],[23,48,23,52],[24,32,24,52],[25,32,25,52],[33,1,33,52],[21,10,21,28],[21,32,21,52],[30,0,30,52],[31,1,31,52],[22,32,22,46],[22,48,22,52],[38,1,38,52],[39,1,39,52],[34,1,34,52],[35,1,35,52],[36,1,36,52],[37,1,37,52]]}
[null,null,null,null,null,null,null,null,null,null,null,null,null,null,null,null,null,null,null,null,null,null,null,null,null,null,null,null,null,null,null,null,"Škol (MŠVVŠ SR)  11 - 01",null,null,null,null,null,null,null,null,null,null,null,null,null,null,null,null,null,null,null,"R"]
[null,null,null,null,null,null,null,null,null,null,null,null,null,null,null,null,null,null,null,null,null,null,null,null,null,null,null,null,null,null,null,null,"Rok",null,null,null,"Mes",null,"Identifikačné číslo",null,null,null,null,null,null,null,null,"Fakulta"]
[null,null,null,null,null,null,null,null,null,null,null,null,null,null,null,null,null,null,null,null,null,null,null,null,null,null,null,null,null,null,null,null,null,null,null,null,"iac"]
[null,null,null,null,null,null,null,null,null,null,null,null,null,null,null,null,null,null,null,null,null,null,null,null,null,null,null,null,null,null,null,null,"2023",null,null,null,"10"]
[]
[null,null,null,null,null,null,null,null,null,null,null,null,null,null,null,null,null,null,null,null,null,null,null,null,null,null,null,null,null,null,null,null,"Zber údajov podľa stavu: k 31. 10. 2023"]
[]
[]
[]
[null,null,null,null,null,null,null,null,null,null,null,null,null,null,null,null,null,"Štúdium I. a II. stupňa"]
[]
[null,"Vysoká škola"]
[]
[null,"Fakulta"]
[]
[null,"Miesto",null,null,null,null,null,null,null,null,null,null,null,null,null,null,null,null,null,null,null,null,null,null,null,null,null,null,null,null,null,null,null,null,null,null,null,null,null,null,null,null,null,null,null,"PSČ"]
[]
[null,"Ulica"]
[]
[null,null,null,null,null,null,null,null,null,null,"Podpis vedúceho",null,null,null,null,null,null,null,null,null,null,null,null,null,null,null,null,null,null,null,null,null,"Výkaz zostavil"]
[null,"Pečiatka",null,null,null,null,null,null,null,null,"spravodajskej jednotky"]
[]
[null,null,null,null,null,null,null,null,null,null,null,null,null,null,null,null,null,null,null,null,null,null,null,null,null,null,null,null,null,null,null,null,"Telefón",null,null,null,null,null,null,null,null,null,null,null,null,null,null,null,"Klapka"]
[]
[null,null,null,null,null,null,null,null,null,null,null,null,null,null,null,null,null,null,null,null,null,null,null,null,null,null,null,null,null,null,null,null,"E-mail"]
[]
["Odoslané dňa"]
[]
["Polia oranžovej farby musia byť povinne vyplnené (identifikačná časť) alebo označujú nepríspustnú chybu"]
["(údajová časť). Po vyplnení nesmie na formulári byť oranžové pole. Formulár s oranžovým poľom je chybný."]
["Komentár k výkazu (vyplníte povinne, ak na formulári ostalo žlté pole - možná chyba)"]
[null,"Nezabudnite doplniť SAMOPLATCOV!"]
[null,"Nie je potrebné uvádzať cudzincov vo veku 17 rokov menovite"]

{"sheet":"I.den SR","index":1,"n_rows":9,"n_cols":46,"rows_kept":9,"cut":false,"hidden":false,"merged":[[2,10,2,11],[1,18,2,19],[4,24,4,25],[4,26,4,29],[6,24,6,26],[1,20,3,29],[0,20,0,29],[1,4,2,5],[5,27,5,29],[5,20,5,21],[0,0,0,4],[0,5,0,16],[2,14,2,15],[2,12,2,13],[2,8,2,9],[2,6,2,7],[4,22,4,23],[5,22,5,23],[5,24,5,26],[1,6,1,17],[1,0,2,3],[2,16,2,17],[7,21,7,29],[6,20,6,21],[2,37,2,38],[3,37,3,38],[2,31,3,32],[2,33,2,34],[3,33,3,34],[6,22,6,23],[2,35,3,36],[2,39,3,40],[2,41,2,42],[3,41,3,42],[7,1,8,1],[8,21,8,22],[8,23,8,24],[7,2,8,2],[7,4,7,19],[8,25,8,26],[8,27,8,28],[6,27,6,29],[4,20,4,21],[4,0,4,3],[5,0,5,3],[6,0,6,3],[7,3,8,3]]}
["I. Zapísaní študujúci (fyzické osoby)",null,null,null,null,"DENNÁ FORMA - SLOVENSKÉ ŠTÁTNE OBČIANSTVO",null,null,null,null,null,null,null,null,null,null,null,"Fakulta",null,{"$f":"Identif!AV4","v":0},null,null,null,null,null,null,null,null,null,null,null,"Pomocné nápočty pre"]
["Študijné odbory a programy",null,null,null,"1. - 6.",null,"v akademickom roku",null,null,null,null,null,null,null,null,null,null,null,"Novoprijatí",null,"Výpis chýb v jednotlivých riadkoch",null,null,null,null,null,null,null,null,null,null,"DRUHST= 1x ",null,null,null,"DRUHST= 2x",null,null,null,"DRUHST= 3x"]
[null,null,null,null,null,null,"1.",null,"2.",null,"3.",null,"4.",null,"5.",null,"6.",null,null,null,null,null,null,null,null,null,null,null,null,null,null,"1. - 6.",null,"Novoprijatí",null,"1. - 6.",null,"Novoprijatí",null,"1. - 6.",null,"Novoprijatí",null,null,"kod UIP","nazov UIP"]
["kód","dĺžka","druh","forma","spolu","ženy","spolu","ženy","spolu","ženy","spolu","ženy","spolu","ženy","spolu","ženy","spolu","ženy","spolu","ženy",null,null,null,null,null,null,null,null,null,null,null,null,null,"do 1. ročníka",null,null,null,"do 1. ročníka",null,null,null,"do 1. ročníka"]
["celkom",null,null,null,{"$f":"SUM(G5+I5+K5+M5+O5+Q5)","v":0},{"$f":"SUM(H5+J5+L5+N5+P5+R5)","v":0},{"$f":"SUM(G9:G1456)","v":0},0,0,0,0,0,0,0,0,0,0,0,0,0,{"$f":"IF(G6>G5,\"Opakujúci > CELKOM 1. ročník\",IF(I6>I5,\"Opakujúci > CELKOM 2. ročník\",IF(K6>K5,\"Opakujúci > CELKOM 3. ročník\",IF(M6>M5,\"Opakujúci > CELKOM 4. ročník\",IF(O6>O5,\"Opakujúci > CELKOM 5. ročník\",IF(Q6>Q5,\"Opakujúci > CELKOM 6. ročník\",\" \"))))))","v":" "},null,{"$f":"IF(H6>H5,\"Opak. ženy > CELKOM 1. r\",IF(J6>J5,\"Opak. ženy > CELKOM 2. r\",IF(L6>L5,\"Opak. ženy > CELKOM 3. r\",IF(N6>N5,\"Opak. ženy > CELKOM 4. r\",IF(P6>P5,\"Opak. ženy > CELKOM 5. r\",IF(R6>R5,\"Opak. ženy > CELKOM 6. r\",\" \"))))))","v":" "},null,{"$f":"IF(G7>G5,\"Samoplatci > CELKOM 1. ročník\",IF(I7>I5,\"Samoplatci > CELKOM 2. ročník\",IF(K7>K5,\"Samoplatci > CELKOM 3. ročník\",IF(M7>M5,\"Samoplatci > CELKOM 4. ročník\",IF(O7>O5,\"Samoplatci > CELKOM 5. ročník\",IF(Q7>Q5,\"Samoplatci > CELKOM 6. ročník\",IF(S7>S5,\"Samoplatci > CELKOM novopr.\",\" \")))))))","v":" "},null,{"$f":"IF(H7>H5,\"Samopl. ženy > CELKOM 1. ročník ženy\",IF(J7>J5,\"Samopl. ženy > CELKOM 2. ročník ženy\",IF(L7>L5,\"Samopl. ženy > CELKOM 3. ročník ženy\",IF(N7>N5,\"Samopl. ženy > CELKOM 4. ročník ženy\",IF(P7>P5,\"Samopl. ženy > CELKOM 5. ročník ženy\",IF(R7>R5,\"Samopl. ženy > CELKOM 6. ročník ženy\",IF(T7>T5,\"Samopl. ženy > CELKOM ženy novoprijaté\",\" \")))))))","v":" "},null,null,null,null,"spolu","ženy","spolu","ženy","spolu","ženy","spolu","ženy","spolu","ženy","spolu","ženy"]
[null,null,null,null,0,0,null,null,null,null,null,null,null,null,null,null,null,null,null,null,{"$f":"IF(G6<H6,\"Opak. ženy > spolu 1. ročník\",IF(I6<J6,\"Opak. ženy > spolu 2. ročník\",IF(K6<L6,\"Opak. ženy > spolu 3. ročník\",IF(M6<N6,\"Opak. ženy > spolu 4. ročník\",IF(O6<P6,\"Opak. ženy > spolu 5. ročník\",IF(Q6<R6,\"Opak. ženy > spolu 6. ročník\",\" \"))))))","v":" "},null,{"$f":"IF(G6<S6,\"Opak. novo > 1. ročník\",IF(H6<T6,\"Opak. ženy novo > ženy 1. roč.\",\" \"))","v":" "},null,{"$f":"IF(AND(G5=G6,  H5<>H6),\"1. ročník CELKOM ženy<>ženy opak.\",IF(AND(I5=I6, J5<>J6),\"2. ročník CELKOM ženy<>ženy opak.\",IF(AND(K5=K6, L5<>L6),\"3. ročník CELKOM ženy<>ženy opak.\", IF(AND(M5=M6, N5<>N6),\"4. ročník CELKOM ženy<>ženy opak.\",IF(AND(O5=O6, P5<>P6),\"5. ročník CELKOM ženy<>ženy opak.\",IF(AND(Q5=Q6, R5<>R6),\"6. ročník CELKOM ženy<>ženy opak.\",\" \"))))))","v":" "},null,null,{"$f":"IF(G5-H5<G6-H6,\"1. CELKOM ženy nesedia na ženy opak.\",IF(I5-J5<I6-J6,\"2. CELKOM ženy nesedia na ženy opak.\",IF(K5-L5<K6-L6,\"3. CELKOM ženy nesedia na ženy opak.\", IF(M5-N5<M6-N6,\"4. CELKOM ženy nesedia na ženy opak.\",IF(O5-P5<O6-P6,\"5. CELKOM ženy nesedia na ženy opak.\",IF(Q5-R5<Q6-R6,\"6. CELKOM ženy nesedia na ženy opak.\",\" \"))))))","v":" "},null,null,null,{"$f":"SUM(AF9:AF1456)","v":0},0,0,0,0,0,0,0,{"$f":"SUM(AN9:AN1456)","v":0},0,0,0]
["z celkového počtu samoplatci, platci",null,null,null,0,0,null,null,null,null,null,null,null,null,null,null,null,null,null,null,{"$f":"IF(G7<H7,\"Samopl. ženy > spolu 1. ročník\",IF(I7<J7,\"Samopl. ženy > spolu 2. ročník\",IF(K7<L7,\"Samopl. ženy > spolu 3. ročník\",IF(M7<N7,\"Samopl. ženy > spolu 4. ročník\",IF(O7<P7,\"Samopl.. ženy > spolu 5. ročník\",IF(Q7<R7,\"Samopl. ženy > spolu 6. ročník\",IF(S7<T7,\"Samopl. ženy > spolu novoprijatí\",\" \")))))))","v":" "},null,{"$f":"IF(G7<S7,\"Sam. novo > 1.ročník\",IF(H7<T7,\"Sam. ženy novo > ženy 1. roč\",IF(AND(G7>0,S7=0),\"Sam. 1. roč > 0 a novo = 0\",\" \")))","v":" "},null,{"$f":"IF(AND(G5=G7,  H5<>H7),\"1. ročník CELKOM ženy<>ženy samop.\",IF(AND(I5=I7, J5<>J7),\"2. ročník CELKOM ženy<>ženy samop.\",IF(AND(K5=K7, L5<>L7),\"3. ročník CELKOM ženy<>ženy samop.\", IF(AND(M5=M7, N5<>N7),\"4. ročník CELKOM ženy<>ženy samop.\",IF(AND(O5=O7, P5<>P7),\"5. ročník CELKOM ženy<>ženy samop.\",IF(AND(Q5=Q7, R5<>R7),\"6. ročník CELKOM ženy<>ženy samop.\",IF(AND(S5=S7, T5<>T7),\"Novo CELKOM ženy<>ženy samop.\",\" \")))))))","v":" "},null,null,{"$f":"IF(G5-H5<G7-H7,\"1. CELKOM ženy nesedia na ženy sam.\",IF(I5-J5<I7-J7,\"2. CELKOM ženy nesedia na ženy sam.\",IF(K5-L5<K7-L7,\"3. CELKOM ženy nesedia na ženy sam.\", IF(M5-N5<M7-N7,\"4. CELKOM ženy nesedia na ženy sam.\",IF(O5-P5<O7-P7,\"5. CELKOM ženy nesedia na ženy sam.\",IF(Q5-R5<Q7-R7,\"6. CELKOM ženy nesedia na ženy sam.\",IF(S5-T5<S7-T7,\"Novo. CELKOM ženy nesedia na ženy sam.\",\" \")))))))","v":" "}]
[null,null,null,null,null,null,null,null,null,null,null,null,null,null,null,null,null,null,null,null,{"$f":"CONCATENATE(A8,\"/\",A9)","v":"/"},{"$f":"E8","v":0}]
[null,null,null,null,{"$f":"SUM(G9+I9+K9+M9+O9+Q9)","v":0},{"$f":"SUM(H9+J9+L9+N9+P9+R9)","v":0},null,null,null,null,null,null,null,null,null,null,null,null,null,null,{"$f":"IF(G9<S9,\"NOVO\",IF(H9<T9,\"NOVO ženy\",\" \"))","v":" "},{"$f":"IF(S9=G9,IF(T9<>H9,\"Novo ženy<>ženy 1r\",\" \"),IF(G9-H9<S9-T9,\"Nesprávne ženy\",\" \"))","v":" "},null,{"$f":"IF(G9>1,IF(S9=0,\"Nevyplnení novo\",\" \"),\" \")","v":" "},null,{"$f":"IF(G9<H9,\"ŽENY 1.\",IF(I9<J9,\"ŽENY 2.\",IF(K9<L9,\"ŽENY 3.\",IF(M9<N9,\"ŽENY 4.\",IF(O9<P9,\"ŽENY 5.\",IF(Q9<R9,\"ŽENY 6.\",IF(S9<T9,\"ŽENY novo\",\" \")))))))","v":" "},null,{"$f":"IF(AND(A8>0,E9=0),\"nulové údaje\",\" \")","v":" "},null,null,null,{"$f":"IF(LEFT(C8,1)=\"1\",E9,0)","v":0},{"$f":"IF(LEFT(C8,1)=\"1\",F9,0)","v":0},{"$f":"IF(LEFT(C8,1)=\"1\",S9,0)","v":0},{"$f":"IF(LEFT(C8,1)=\"1\",T9,0)","v":0},{"$f":"IF(LEFT(C8,1)=\"2\",E9,0)","v":0},{"$f":"IF(LEFT(C8,1)=\"2\",F9,0)","v":0},{"$f":"IF(LEFT(C8,1)=\"2\",S9,0)","v":0},{"$f":"IF(LEFT(C8,1)=\"2\",T9,0)","v":0},{"$f":"IF(LEFT(C8,1)=\"3\",E9,0)","v":0},{"$f":"IF(LEFT(C8,1)=\"3\",F9,0)","v":0},{"$f":"IF(LEFT(C8,1)=\"3\",S9,0)","v":0},{"$f":"IF(LEFT(C8,1)=\"3\",T9,0)","v":0}]

{"sheet":"I.den cudz","index":2,"n_rows":9,"n_cols":46,"rows_kept":9,"cut":false,"hidden":false,"merged":[[2,37,2,38],[3,33,3,34],[3,37,3,38],[2,33,2,34],[2,35,3,36],[7,1,8,1],[1,0,2,3],[4,0,4,3],[5,0,5,3],[6,0,6,3],[7,3,8,3],[7,2,8,2],[0,20,0,29],[1,4,2,5],[0,0,0,4],[0,5,0,16],[2,16,2,17],[2,10,2,11],[2,14,2,15],[2,12,2,13],[2,8,2,9],[2,6,2,7],[1,18,2,19],[1,6,1,17],[7,4,7,19],[6,20,6,21],[5,20,5,21],[7,21,7,29],[6,24,6,26],[5,22,5,23],[5,24,5,26],[2,41,2,42],[3,41,3,42],[8,27,8,28],[8,21,8,22],[8,23,8,24],[1,20,3,29],[8,25,8,26],[6,27,6,29],[4,20,4,21],[4,22,4,23],[6,22,6,23],[4,26,4,29],[5,27,5,29],[4,24,4,25],[2,31,3,32],[2,39,3,40]]}
["I. Zapísaní študujúci (fyzické osoby)",null,null,null,null,"DENNÁ FORMA - CUDZINCI",null,null,null,null,null,null,null,null,null,null,null,"Fakulta",null,{"$f":"Identif!AV4","v":0},null,null,null,null,null,null,null,null,null,null,null,"Pomocné nápočty pre"]
["Študijné odbory a programy",null,null,null,"1. - 6.",null,"v akademickom roku",null,null,null,null,null,null,null,null,null,null,null,"Novoprijatí",null,"Výpis chýb v jednotlivých riadkoch",null,null,null,null,null,null,null,null,null,null,"DRUHST= 1x ",null,null,null,"DRUHST= 2x",null,null,null,"DRUHST= 3x"]
[null,null,null,null,null,null,"1.",null,"2.",null,"3.",null,"4.",null,"5.",null,"6.",null,null,null,null,null,null,null,null,null,null,null,null,null,null,"1. - 6.",null,"Novoprijatí",null,"1. - 6.",null,"Novoprijatí",null,"1. - 6.",null,"Novoprijatí",null,null,"kod UIP","nazov UIP"]
["kód","dĺžka","druh","forma","spolu","ženy","spolu","ženy","spolu","ženy","spolu","ženy","spolu","ženy","spolu","ženy","spolu","ženy","spolu","ženy",null,null,null,null,null,null,null,null,null,null,null,null,null,"do 1. ročníka",null,null,null,"do 1. ročníka",null,null,null,"do 1. ročníka"]
["celkom",null,null,null,{"$f":"SUM(G5+I5+K5+M5+O5+Q5)","v":0},{"$f":"SUM(H5+J5+L5+N5+P5+R5)","v":0},{"$f":"SUM(G9:G1496)","v":0},0,0,0,0,0,0,0,0,0,0,0,0,0,{"$f":"IF(G6>G5,\"Opakujúci > CELKOM 1. ročník\",IF(I6>I5,\"Opakujúci > CELKOM 2. ročník\",IF(K6>K5,\"Opakujúci > CELKOM 3. ročník\",IF(M6>M5,\"Opakujúci > CELKOM 4. ročník\",IF(O6>O5,\"Opakujúci > CELKOM 5. ročník\",IF(Q6>Q5,\"Opakujúci > CELKOM 6. ročník\",\" \"))))))","v":" "},null,{"$f":"IF(H6>H5,\"Opak. ženy > CELKOM 1. r\",IF(J6>J5,\"Opak. ženy > CELKOM 2. r\",IF(L6>L5,\"Opak. ženy > CELKOM 3. r\",IF(N6>N5,\"Opak. ženy > CELKOM 4. r\",IF(P6>P5,\"Opak. ženy > CELKOM 5. r\",IF(R6>R5,\"Opak. ženy > CELKOM 6. r\",\" \"))))))","v":" "},null,{"$f":"IF(G7>G5,\"Samoplatci > CELKOM 1. ročník\",IF(I7>I5,\"Samoplatci > CELKOM 2. ročník\",IF(K7>K5,\"Samoplatci > CELKOM 3. ročník\",IF(M7>M5,\"Samoplatci > CELKOM 4. ročník\",IF(O7>O5,\"Samoplatci > CELKOM 5. ročník\",IF(Q7>Q5,\"Samoplatci > CELKOM 6. ročník\",IF(S7>S5,\"Samoplatci > CELKOM novopr.\",\" \")))))))","v":" "},null,{"$f":"IF(H7>H5,\"Samopl. ženy > CELKOM 1. ročník ženy\",IF(J7>J5,\"Samopl. ženy > CELKOM 2. ročník ženy\",IF(L7>L5,\"Samopl. ženy > CELKOM 3. ročník ženy\",IF(N7>N5,\"Samopl. ženy > CELKOM 4. ročník ženy\",IF(P7>P5,\"Samopl. ženy > CELKOM 5. ročník ženy\",IF(R7>R5,\"Samopl. ženy > CELKOM 6. ročník ženy\",IF(T7>T5,\"Samopl. ženy > CELKOM ženy novoprijaté\",\" \")))))))","v":" "},null,null,null,null,"spolu","ženy","spolu","ženy","spolu","ženy","spolu","ženy","spolu","ženy","spolu","ženy"]
[null,null,null,null,{"$f":"SUM(G6+I6+K6+M6+O6+Q6)","v":0},{"$f":"SUM(H6+J6+L6+N6+P6+R6)","v":0},null,null,null,null,null,null,null,null,null,null,null,null,null,null,{"$f":"IF(G6<H6,\"Opak. ženy > spolu 1. ročník\",IF(I6<J6,\"Opak. ženy > spolu 2. ročník\",IF(K6<L6,\"Opak. ženy > spolu 3. ročník\",IF(M6<N6,\"Opak. ženy > spolu 4. ročník\",IF(O6<P6,\"Opak. ženy > spolu 5. ročník\",IF(Q6<R6,\"Opak. ženy > spolu 6. ročník\",\" \"))))))","v":" "},null,{"$f":"IF(G6<S6,\"Opak. novo > 1. ročník\",IF(H6<T6,\"Opak. ženy novo > ženy 1. roč.\",\" \"))","v":" "},null,{"$f":"IF(AND(G5=G6,  H5<>H6),\"1. ročník CELKOM ženy<>ženy opak.\",IF(AND(I5=I6, J5<>J6),\"2. ročník CELKOM ženy<>ženy opak.\",IF(AND(K5=K6, L5<>L6),\"3. ročník CELKOM ženy<>ženy opak.\", IF(AND(M5=M6, N5<>N6),\"4. ročník CELKOM ženy<>ženy opak.\",IF(AND(O5=O6, P5<>P6),\"5. ročník CELKOM ženy<>ženy opak.\",IF(AND(Q5=Q6, R5<>R6),\"6. ročník CELKOM ženy<>ženy opak.\",\" \"))))))","v":" "},null,null,{"$f":"IF(G5-H5<G6-H6,\"1. CELKOM ženy nesedia na ženy opak.\",IF(I5-J5<I6-J6,\"2. CELKOM ženy nesedia na ženy opak.\",IF(K5-L5<K6-L6,\"3. CELKOM ženy nesedia na ženy opak.\", IF(M5-N5<M6-N6,\"4. CELKOM ženy nesedia na ženy opak.\",IF(O5-P5<O6-P6,\"5. CELKOM ženy nesedia na ženy opak.\",IF(Q5-R5<Q6-R6,\"6. CELKOM ženy nesedia na ženy opak.\",\" \"))))))","v":" "},null,null,null,{"$f":"SUM(AF9:AF1496)","v":0},{"$f":"SUM(AG9:AG1496)","v":0},0,0,0,0,0,0,0,0,0,0]
["z celkového počtu samoplatci, platci",null,null,null,0,0,null,null,null,null,null,null,null,null,null,null,null,null,null,null,{"$f":"IF(G7<H7,\"Samopl. ženy > spolu 1. ročník\",IF(I7<J7,\"Samopl. ženy > spolu 2. ročník\",IF(K7<L7,\"Samopl. ženy > spolu 3. ročník\",IF(M7<N7,\"Samopl. ženy > spolu 4. ročník\",IF(O7<P7,\"Samopl.. ženy > spolu 5. ročník\",IF(Q7<R7,\"Samopl. ženy > spolu 6. ročník\",IF(S7<T7,\"Samopl. ženy > spolu novoprijatí\",\" \")))))))","v":" "},null,{"$f":"IF(G7<S7,\"Sam. novo > 1.ročník\",IF(H7<T7,\"Sam. ženy novo > ženy 1. roč\",IF(AND(G7>0,S7=0),\"Sam. 1. roč > 0 a novo = 0\",\" \")))","v":" "},null,{"$f":"IF(AND(G5=G7,  H5<>H7),\"1. ročník CELKOM ženy<>ženy samop.\",IF(AND(I5=I7, J5<>J7),\"2. ročník CELKOM ženy<>ženy samop.\",IF(AND(K5=K7, L5<>L7),\"3. ročník CELKOM ženy<>ženy samop.\", IF(AND(M5=M7, N5<>N7),\"4. ročník CELKOM ženy<>ženy samop.\",IF(AND(O5=O7, P5<>P7),\"5. ročník CELKOM ženy<>ženy samop.\",IF(AND(Q5=Q7, R5<>R7),\"6. ročník CELKOM ženy<>ženy samop.\",IF(AND(S5=S7, T5<>T7),\"Novo CELKOM ženy<>ženy samop.\",\" \")))))))","v":" "},null,null,{"$f":"IF(G5-H5<G7-H7,\"1. CELKOM ženy nesedia na ženy sam.\",IF(I5-J5<I7-J7,\"2. CELKOM ženy nesedia na ženy sam.\",IF(K5-L5<K7-L7,\"3. CELKOM ženy nesedia na ženy sam.\", IF(M5-N5<M7-N7,\"4. CELKOM ženy nesedia na ženy sam.\",IF(O5-P5<O7-P7,\"5. CELKOM ženy nesedia na ženy sam.\",IF(Q5-R5<Q7-R7,\"6. CELKOM ženy nesedia na ženy sam.\",IF(S5-T5<S7-T7,\"Novo. CELKOM ženy nesedia na ženy sam.\",\" \")))))))","v":" "}]
[null,null,null,null,null,null,null,null,null,null,null,null,null,null,null,null,null,null,null,null,{"$f":"CONCATENATE(A8,\"/\",A9)","v":"/"},{"$f":"E8","v":0}]
[null,null,null,null,{"$f":"SUM(G9+I9+K9+M9+O9+Q9)","v":0},{"$f":"SUM(H9+J9+L9+N9+P9+R9)","v":0},null,null,null,null,null,null,null,null,null,null,null,null,null,null,{"$f":"IF(G9<S9,\"NOVO\",IF(H9<T9,\"NOVO ženy\",\" \"))","v":" "},{"$f":"IF(S9=G9,IF(T9<>H9,\"Novo ženy<>ženy 1r\",\" \"),IF(G9-H9<S9-T9,\"Nesprávne ženy\",\" \"))","v":" "},null,{"$f":"IF(G9>1,IF(S9=0,\"Nevyplnení novo\",\" \"),\" \")","v":" "},null,{"$f":"IF(G9<H9,\"ŽENY 1.\",IF(I9<J9,\"ŽENY 2.\",IF(K9<L9,\"ŽENY 3.\",IF(M9<N9,\"ŽENY 4.\",IF(O9<P9,\"ŽENY 5.\",IF(Q9<R9,\"ŽENY 6.\",IF(S9<T9,\"ŽENY novo\",\" \")))))))","v":" "},null,{"$f":"IF(AND(A8>0,E9=0),\"nulové údaje\",\" \")","v":" "},null,null,null,{"$f":"IF(LEFT(C8,1)=\"1\",E9,0)","v":0},{"$f":"IF(LEFT(C8,1)=\"1\",F9,0)","v":0},{"$f":"IF(LEFT(C8,1)=\"1\",S9,0)","v":0},{"$f":"IF(LEFT(C8,1)=\"1\",T9,0)","v":0},{"$f":"IF(LEFT(C8,1)=\"2\",E9,0)","v":0},{"$f":"IF(LEFT(C8,1)=\"2\",F9,0)","v":0},{"$f":"IF(LEFT(C8,1)=\"2\",S9,0)","v":0},{"$f":"IF(LEFT(C8,1)=\"2\",T9,0)","v":0},{"$f":"IF(LEFT(C8,1)=\"3\",E9,0)","v":0},{"$f":"IF(LEFT(C8,1)=\"3\",F9,0)","v":0},{"$f":"IF(LEFT(C8,1)=\"3\",S9,0)","v":0},{"$f":"IF(LEFT(C8,1)=\"3\",T9,0)","v":0}]

{"sheet":"I.ext SR","index":3,"n_rows":9,"n_cols":46,"rows_kept":9,"cut":false,"hidden":false,"merged":[[4,26,4,29],[1,6,1,17],[1,0,2,3],[2,35,3,36],[2,37,2,38],[3,37,3,38],[2,31,3,32],[2,33,2,34],[3,33,3,34],[2,10,2,11],[5,24,5,26],[4,24,4,25],[6,24,6,26],[0,20,0,29],[1,4,2,5],[5,27,5,29],[5,20,5,21],[0,0,0,4],[0,5,0,16],[2,14,2,15],[2,12,2,13],[2,8,2,9],[2,6,2,7],[4,0,4,3],[5,0,5,3],[1,20,3,29],[6,20,6,21],[1,18,2,19],[4,20,4,21],[6,22,6,23],[5,22,5,23],[2,39,3,40],[2,41,2,42],[3,41,3,42],[7,21,7,29],[7,1,8,1],[8,21,8,22],[8,23,8,24],[7,4,7,19],[8,25,8,26],[8,27,8,28],[6,0,6,3],[7,3,8,3],[7,2,8,2],[6,27,6,29],[4,22,4,23],[2,16,2,17]]}
["I. Zapísaní študujúci (fyzické osoby)",null,null,null,null,"EXTERNÁ FORMA - SLOVENSKÉ ŠTÁTNE OBČIANSTVO",null,null,null,null,null,null,null,null,null,null,null,"Fakulta",null,{"$f":"Identif!AV4","v":0},null,null,null,null,null,null,null,null,null,null,null,"Pomocné nápočty pre"]
["Študijné odbory a programy",null,null,null,"1. - 6.",null,"v akademickom roku",null,null,null,null,null,null,null,null,null,null,null,"Novoprijatí",null,"Výpis chýb v jednotlivých riadkoch",null,null,null,null,null,null,null,null,null,null,"DRUHST= 1x ",null,null,null,"DRUHST= 2x",null,null,null,"DRUHST= 3x"]
[null,null,null,null,null,null,"1.",null,"2.",null,"3.",null,"4.",null,"5.",null,"6.",null,null,null,null,null,null,null,null,null,null,null,null,null,null,"1. - 6.",null,"Novoprijatí",null,"1. - 6.",null,"Novoprijatí",null,"1. - 6.",null,"Novoprijatí",null,null,"kod UIP","nazov UIP"]
["kód","dĺžka","druh","forma","spolu","ženy","spolu","ženy","spolu","ženy","spolu","ženy","spolu","ženy","spolu","ženy","spolu","ženy","spolu","ženy",null,null,null,null,null,null,null,null,null,null,null,null,null,"do 1. ročníka",null,null,null,"do 1. ročníka",null,null,null,"do 1. ročníka"]
["celkom",null,null,null,{"$f":"SUM(G5+I5+K5+M5+O5+Q5)","v":0},{"$f":"SUM(H5+J5+L5+N5+P5+R5)","v":0},{"$f":"SUM(G9:G1494)","v":0},0,0,0,0,0,0,0,0,0,0,0,0,0,{"$f":"IF(G6>G5,\"Opakujúci > CELKOM 1. ročník\",IF(I6>I5,\"Opakujúci > CELKOM 2. ročník\",IF(K6>K5,\"Opakujúci > CELKOM 3. ročník\",IF(M6>M5,\"Opakujúci > CELKOM 4. ročník\",IF(O6>O5,\"Opakujúci > CELKOM 5. ročník\",IF(Q6>Q5,\"Opakujúci > CELKOM 6. ročník\",\" \"))))))","v":" "},null,{"$f":"IF(H6>H5,\"Opak. ženy > CELKOM 1. r\",IF(J6>J5,\"Opak. ženy > CELKOM 2. r\",IF(L6>L5,\"Opak. ženy > CELKOM 3. r\",IF(N6>N5,\"Opak. ženy > CELKOM 4. r\",IF(P6>P5,\"Opak. ženy > CELKOM 5. r\",IF(R6>R5,\"Opak. ženy > CELKOM 6. r\",\" \"))))))","v":" "},null,{"$f":"IF(G7>G5,\"Samoplatci > CELKOM 1. ročník\",IF(I7>I5,\"Samoplatci > CELKOM 2. ročník\",IF(K7>K5,\"Samoplatci > CELKOM 3. ročník\",IF(M7>M5,\"Samoplatci > CELKOM 4. ročník\",IF(O7>O5,\"Samoplatci > CELKOM 5. ročník\",IF(Q7>Q5,\"Samoplatci > CELKOM 6. ročník\",IF(S7>S5,\"Samoplatci > CELKOM novopr.\",\" \")))))))","v":" "},null,{"$f":"IF(H7>H5,\"Samopl. ženy > CELKOM 1. ročník ženy\",IF(J7>J5,\"Samopl. ženy > CELKOM 2. ročník ženy\",IF(L7>L5,\"Samopl. ženy > CELKOM 3. ročník ženy\",IF(N7>N5,\"Samopl. ženy > CELKOM 4. ročník ženy\",IF(P7>P5,\"Samopl. ženy > CELKOM 5. ročník ženy\",IF(R7>R5,\"Samopl. ženy > CELKOM 6. ročník ženy\",IF(T7>T5,\"Samopl. ženy > CELKOM ženy novoprijaté\",\" \")))))))","v":" "},null,null,null,null,"spolu","ženy","spolu","ženy","spolu","ženy","spolu","ženy","spolu","ženy","spolu","ženy"]
[null,null,null,null,{"$f":"SUM(G6+I6+K6+M6+O6+Q6)","v":0},{"$f":"SUM(H6+J6+L6+N6+P6+R6)","v":0},null,null,null,null,null,null,null,null,null,null,null,null,null,null,{"$f":"IF(G6<H6,\"Opak. ženy > spolu 1. ročník\",IF(I6<J6,\"Opak. ženy > spolu 2. ročník\",IF(K6<L6,\"Opak. ženy > spolu 3. ročník\",IF(M6<N6,\"Opak. ženy > spolu 4. ročník\",IF(O6<P6,\"Opak. ženy > spolu 5. ročník\",IF(Q6<R6,\"Opak. ženy > spolu 6. ročník\",\" \"))))))","v":" "},null,{"$f":"IF(G6<S6,\"Opak. novo > 1. ročník\",IF(H6<T6,\"Opak. ženy novo > ženy 1. roč.\",\" \"))","v":" "},null,{"$f":"IF(AND(G5=G6,  H5<>H6),\"1. ročník CELKOM ženy<>ženy opak.\",IF(AND(I5=I6, J5<>J6),\"2. ročník CELKOM ženy<>ženy opak.\",IF(AND(K5=K6, L5<>L6),\"3. ročník CELKOM ženy<>ženy opak.\", IF(AND(M5=M6, N5<>N6),\"4. ročník CELKOM ženy<>ženy opak.\",IF(AND(O5=O6, P5<>P6),\"5. ročník CELKOM ženy<>ženy opak.\",IF(AND(Q5=Q6, R5<>R6),\"6. ročník CELKOM ženy<>ženy opak.\",\" \"))))))","v":" "},null,null,{"$f":"IF(G5-H5<G6-H6,\"1. CELKOM ženy nesedia na ženy opak.\",IF(I5-J5<I6-J6,\"2. CELKOM ženy nesedia na ženy opak.\",IF(K5-L5<K6-L6,\"3. CELKOM ženy nesedia na ženy opak.\", IF(M5-N5<M6-N6,\"4. CELKOM ženy nesedia na ženy opak.\",IF(O5-P5<O6-P6,\"5. CELKOM ženy nesedia na ženy opak.\",IF(Q5-R5<Q6-R6,\"6. CELKOM ženy nesedia na ženy opak.\",\" \"))))))","v":" "},null,null,null,{"$f":"SUM(AF9:AF1494)","v":0},{"$f":"SUM(AG9:AG1494)","v":0},0,0,0,0,0,0,0,0,0,0]
["z celkového počtu samoplatci, platci",null,null,null,0,0,null,null,null,null,null,null,null,null,null,null,null,null,null,null,{"$f":"IF(G7<H7,\"Samopl. ženy > spolu 1. ročník\",IF(I7<J7,\"Samopl. ženy > spolu 2. ročník\",IF(K7<L7,\"Samopl. ženy > spolu 3. ročník\",IF(M7<N7,\"Samopl. ženy > spolu 4. ročník\",IF(O7<P7,\"Samopl.. ženy > spolu 5. ročník\",IF(Q7<R7,\"Samopl. ženy > spolu 6. ročník\",IF(S7<T7,\"Samopl. ženy > spolu novoprijatí\",\" \")))))))","v":" "},null,{"$f":"IF(G7<S7,\"Sam. novo > 1.ročník\",IF(H7<T7,\"Sam. ženy novo > ženy 1. roč\",IF(AND(G7>0,S7=0),\"Sam. 1. roč > 0 a novo = 0\",\" \")))","v":" "},null,{"$f":"IF(AND(G5=G7,  H5<>H7),\"1. ročník CELKOM ženy<>ženy samop.\",IF(AND(I5=I7, J5<>J7),\"2. ročník CELKOM ženy<>ženy samop.\",IF(AND(K5=K7, L5<>L7),\"3. ročník CELKOM ženy<>ženy samop.\", IF(AND(M5=M7, N5<>N7),\"4. ročník CELKOM ženy<>ženy samop.\",IF(AND(O5=O7, P5<>P7),\"5. ročník CELKOM ženy<>ženy samop.\",IF(AND(Q5=Q7, R5<>R7),\"6. ročník CELKOM ženy<>ženy samop.\",IF(AND(S5=S7, T5<>T7),\"Novo CELKOM ženy<>ženy samop.\",\" \")))))))","v":" "},null,null,{"$f":"IF(G5-H5<G7-H7,\"1. CELKOM ženy nesedia na ženy sam.\",IF(I5-J5<I7-J7,\"2. CELKOM ženy nesedia na ženy sam.\",IF(K5-L5<K7-L7,\"3. CELKOM ženy nesedia na ženy sam.\", IF(M5-N5<M7-N7,\"4. CELKOM ženy nesedia na ženy sam.\",IF(O5-P5<O7-P7,\"5. CELKOM ženy nesedia na ženy sam.\",IF(Q5-R5<Q7-R7,\"6. CELKOM ženy nesedia na ženy sam.\",IF(S5-T5<S7-T7,\"Novo. CELKOM ženy nesedia na ženy sam.\",\" \")))))))","v":" "}]
[null,null,null,null,null,null,null,null,null,null,null,null,null,null,null,null,null,null,null,null,{"$f":"CONCATENATE(A8,\"/\",A9)","v":"/"},{"$f":"E8","v":0}]
[null,null,null,null,{"$f":"SUM(G9+I9+K9+M9+O9+Q9)","v":0},{"$f":"SUM(H9+J9+L9+N9+P9+R9)","v":0},null,null,null,null,null,null,null,null,null,null,null,null,null,null,{"$f":"IF(G9<S9,\"NOVO\",IF(H9<T9,\"NOVO ženy\",\" \"))","v":" "},{"$f":"IF(S9=G9,IF(T9<>H9,\"Novo ženy<>ženy 1r\",\" \"),IF(G9-H9<S9-T9,\"Nesprávne ženy\",\" \"))","v":" "},null,{"$f":"IF(G9>1,IF(S9=0,\"Nevyplnení novo\",\" \"),\" \")","v":" "},null,{"$f":"IF(G9<H9,\"ŽENY 1.\",IF(I9<J9,\"ŽENY 2.\",IF(K9<L9,\"ŽENY 3.\",IF(M9<N9,\"ŽENY 4.\",IF(O9<P9,\"ŽENY 5.\",IF(Q9<R9,\"ŽENY 6.\",IF(S9<T9,\"ŽENY novo\",\" \")))))))","v":" "},null,{"$f":"IF(AND(A8>0,E9=0),\"nulové údaje\",\" \")","v":" "},null,null,null,{"$f":"IF(LEFT(C8,1)=\"1\",E9,0)","v":0},{"$f":"IF(LEFT(C8,1)=\"1\",F9,0)","v":0},{"$f":"IF(LEFT(C8,1)=\"1\",S9,0)","v":0},{"$f":"IF(LEFT(C8,1)=\"1\",T9,0)","v":0},{"$f":"IF(LEFT(C8,1)=\"2\",E9,0)","v":0},{"$f":"IF(LEFT(C8,1)=\"2\",F9,0)","v":0},{"$f":"IF(LEFT(C8,1)=\"2\",S9,0)","v":0},{"$f":"IF(LEFT(C8,1)=\"2\",T9,0)","v":0},{"$f":"IF(LEFT(C8,1)=\"3\",E9,0)","v":0},{"$f":"IF(LEFT(C8,1)=\"3\",F9,0)","v":0},{"$f":"IF(LEFT(C8,1)=\"3\",S9,0)","v":0},{"$f":"IF(LEFT(C8,1)=\"3\",T9,0)","v":0}]

{"sheet":"I.ext cudz","index":4,"n_rows":9,"n_cols":46,"rows_kept":9,"cut":false,"hidden":false,"merged":[[2,37,2,38],[3,33,3,34],[3,37,3,38],[2,33,2,34],[2,35,3,36],[7,1,8,1],[1,0,2,3],[4,0,4,3],[5,0,5,3],[6,0,6,3],[7,3,8,3],[7,2,8,2],[0,20,0,29],[1,4,2,5],[0,0,0,4],[0,5,0,16],[2,16,2,17],[2,10,2,11],[2,14,2,15],[2,12,2,13],[2,8,2,9],[2,6,2,7],[1,18,2,19],[1,6,1,17],[7,4,7,19],[6,20,6,21],[5,20,5,21],[7,21,7,29],[6,24,6,26],[5,22,5,23],[5,24,5,26],[2,41,2,42],[3,41,3,42],[8,27,8,28],[8,21,8,22],[8,23,8,24],[1,20,3,29],[8,25,8,26],[6,27,6,29],[4,20,4,21],[4,22,4,23],[6,22,6,23],[4,26,4,29],[5,27,5,29],[4,24,4,25],[2,31,3,32],[2,39,3,40]]}
["I. Zapísaní študujúci (fyzické osoby)",null,null,null,null,"EXTERNÁ FORMA - CUDZINCI",null,null,null,null,null,null,null,null,null,null,null,"Fakulta",null,{"$f":"Identif!AV4","v":0},null,null,null,null,null,null,null,null,null,null,null,"Pomocné nápočty pre"]
["Študijné odbory a programy",null,null,null,"1. - 6.",null,"v akademickom roku",null,null,null,null,null,null,null,null,null,null,null,"Novoprijatí",null,"Výpis chýb v jednotlivých riadkoch",null,null,null,null,null,null,null,null,null,null,"DRUHST= 1x ",null,null,null,"DRUHST= 2x",null,null,null,"DRUHST= 3x"]
[null,null,null,null,null,null,"1.",null,"2.",null,"3.",null,"4.",null,"5.",null,"6.",null,null,null,null,null,null,null,null,null,null,null,null,null,null,"1. - 6.",null,"Novoprijatí",null,"1. - 6.",null,"Novoprijatí",null,"1. - 6.",null,"Novoprijatí",null,null,"kod UIP","nazov UIP"]
["kód","dĺžka","druh","forma","spolu","ženy","spolu","ženy","spolu","ženy","spolu","ženy","spolu","ženy","spolu","ženy","spolu","ženy","spolu","ženy",null,null,null,null,null,null,null,null,null,null,null,null,null,"do 1. ročníka",null,null,null,"do 1. ročníka",null,null,null,"do 1. ročníka"]
["celkom",null,null,null,{"$f":"SUM(G5+I5+K5+M5+O5+Q5)","v":0},{"$f":"SUM(H5+J5+L5+N5+P5+R5)","v":0},{"$f":"SUM(G9:G1500)","v":0},{"$f":"SUM(H9:H1500)","v":0},0,0,0,0,0,0,0,0,0,0,0,0,{"$f":"IF(G6>G5,\"Opakujúci > CELKOM 1. ročník\",IF(I6>I5,\"Opakujúci > CELKOM 2. ročník\",IF(K6>K5,\"Opakujúci > CELKOM 3. ročník\",IF(M6>M5,\"Opakujúci > CELKOM 4. ročník\",IF(O6>O5,\"Opakujúci > CELKOM 5. ročník\",IF(Q6>Q5,\"Opakujúci > CELKOM 6. ročník\",\" \"))))))","v":" "},null,{"$f":"IF(H6>H5,\"Opak. ženy > CELKOM 1. r\",IF(J6>J5,\"Opak. ženy > CELKOM 2. r\",IF(L6>L5,\"Opak. ženy > CELKOM 3. r\",IF(N6>N5,\"Opak. ženy > CELKOM 4. r\",IF(P6>P5,\"Opak. ženy > CELKOM 5. r\",IF(R6>R5,\"Opak. ženy > CELKOM 6. r\",\" \"))))))","v":" "},null,{"$f":"IF(G7>G5,\"Samoplatci > CELKOM 1. ročník\",IF(I7>I5,\"Samoplatci > CELKOM 2. ročník\",IF(K7>K5,\"Samoplatci > CELKOM 3. ročník\",IF(M7>M5,\"Samoplatci > CELKOM 4. ročník\",IF(O7>O5,\"Samoplatci > CELKOM 5. ročník\",IF(Q7>Q5,\"Samoplatci > CELKOM 6. ročník\",IF(S7>S5,\"Samoplatci > CELKOM novopr.\",\" \")))))))","v":" "},null,{"$f":"IF(H7>H5,\"Samopl. ženy > CELKOM 1. ročník ženy\",IF(J7>J5,\"Samopl. ženy > CELKOM 2. ročník ženy\",IF(L7>L5,\"Samopl. ženy > CELKOM 3. ročník ženy\",IF(N7>N5,\"Samopl. ženy > CELKOM 4. ročník ženy\",IF(P7>P5,\"Samopl. ženy > CELKOM 5. ročník ženy\",IF(R7>R5,\"Samopl. ženy > CELKOM 6. ročník ženy\",IF(T7>T5,\"Samopl. ženy > CELKOM ženy novoprijaté\",\" \")))))))","v":" "},null,null,null,null,"spolu","ženy","spolu","ženy","spolu","ženy","spolu","ženy","spolu","ženy","spolu","ženy"]
[null,null,null,null,{"$f":"SUM(G6+I6+K6+M6+O6+Q6)","v":0},{"$f":"SUM(H6+J6+L6+N6+P6+R6)","v":0},null,null,null,null,null,null,null,null,null,null,null,null,null,null,{"$f":"IF(G6<H6,\"Opak. ženy > spolu 1. ročník\",IF(I6<J6,\"Opak. ženy > spolu 2. ročník\",IF(K6<L6,\"Opak. ženy > spolu 3. ročník\",IF(M6<N6,\"Opak. ženy > spolu 4. ročník\",IF(O6<P6,\"Opak. ženy > spolu 5. ročník\",IF(Q6<R6,\"Opak. ženy > spolu 6. ročník\",\" \"))))))","v":" "},null,{"$f":"IF(G6<S6,\"Opak. novo > 1. ročník\",IF(H6<T6,\"Opak. ženy novo > ženy 1. roč.\",\" \"))","v":" "},null,{"$f":"IF(AND(G5=G6,  H5<>H6),\"1. ročník CELKOM ženy<>ženy opak.\",IF(AND(I5=I6, J5<>J6),\"2. ročník CELKOM ženy<>ženy opak.\",IF(AND(K5=K6, L5<>L6),\"3. ročník CELKOM ženy<>ženy opak.\", IF(AND(M5=M6, N5<>N6),\"4. ročník CELKOM ženy<>ženy opak.\",IF(AND(O5=O6, P5<>P6),\"5. ročník CELKOM ženy<>ženy opak.\",IF(AND(Q5=Q6, R5<>R6),\"6. ročník CELKOM ženy<>ženy opak.\",\" \"))))))","v":" "},null,null,{"$f":"IF(G5-H5<G6-H6,\"1. CELKOM ženy nesedia na ženy opak.\",IF(I5-J5<I6-J6,\"2. CELKOM ženy nesedia na ženy opak.\",IF(K5-L5<K6-L6,\"3. CELKOM ženy nesedia na ženy opak.\", IF(M5-N5<M6-N6,\"4. CELKOM ženy nesedia na ženy opak.\",IF(O5-P5<O6-P6,\"5. CELKOM ženy nesedia na ženy opak.\",IF(Q5-R5<Q6-R6,\"6. CELKOM ženy nesedia na ženy opak.\",\" \"))))))","v":" "},null,null,null,{"$f":"SUM(AF9:AF1500)","v":0},{"$f":"SUM(AG9:AG1500)","v":0},0,0,0,0,0,0,0,0,0,0]
["z celkového počtu samoplatci, platci",null,null,null,0,0,null,null,null,null,null,null,null,null,null,null,null,null,null,null,{"$f":"IF(G7<H7,\"Samopl. ženy > spolu 1. ročník\",IF(I7<J7,\"Samopl. ženy > spolu 2. ročník\",IF(K7<L7,\"Samopl. ženy > spolu 3. ročník\",IF(M7<N7,\"Samopl. ženy > spolu 4. ročník\",IF(O7<P7,\"Samopl.. ženy > spolu 5. ročník\",IF(Q7<R7,\"Samopl. ženy > spolu 6. ročník\",IF(S7<T7,\"Samopl. ženy > spolu novoprijatí\",\" \")))))))","v":" "},null,{"$f":"IF(G7<S7,\"Sam. novo > 1.ročník\",IF(H7<T7,\"Sam. ženy novo > ženy 1. roč\",IF(AND(G7>0,S7=0),\"Sam. 1. roč > 0 a novo = 0\",\" \")))","v":" "},null,{"$f":"IF(AND(G5=G7,  H5<>H7),\"1. ročník CELKOM ženy<>ženy samop.\",IF(AND(I5=I7, J5<>J7),\"2. ročník CELKOM ženy<>ženy samop.\",IF(AND(K5=K7, L5<>L7),\"3. ročník CELKOM ženy<>ženy samop.\", IF(AND(M5=M7, N5<>N7),\"4. ročník CELKOM ženy<>ženy samop.\",IF(AND(O5=O7, P5<>P7),\"5. ročník CELKOM ženy<>ženy samop.\",IF(AND(Q5=Q7, R5<>R7),\"6. ročník CELKOM ženy<>ženy samop.\",IF(AND(S5=S7, T5<>T7),\"Novo CELKOM ženy<>ženy samop.\",\" \")))))))","v":" "},null,null,{"$f":"IF(G5-H5<G7-H7,\"1. CELKOM ženy nesedia na ženy sam.\",IF(I5-J5<I7-J7,\"2. CELKOM ženy nesedia na ženy sam.\",IF(K5-L5<K7-L7,\"3. CELKOM ženy nesedia na ženy sam.\", IF(M5-N5<M7-N7,\"4. CELKOM ženy nesedia na ženy sam.\",IF(O5-P5<O7-P7,\"5. CELKOM ženy nesedia na ženy sam.\",IF(Q5-R5<Q7-R7,\"6. CELKOM ženy nesedia na ženy sam.\",IF(S5-T5<S7-T7,\"Novo. CELKOM ženy nesedia na ženy sam.\",\" \")))))))","v":" "}]
[null,null,null,null,null,null,null,null,null,null,null,null,null,null,null,null,null,null,null,null,{"$f":"CONCATENATE(A8,\"/\",A9)","v":"/"},{"$f":"E8","v":0}]
[null,null,null,null,{"$f":"SUM(G9+I9+K9+M9+O9+Q9)","v":0},{"$f":"SUM(H9+J9+L9+N9+P9+R9)","v":0},null,null,null,null,null,null,null,null,null,null,null,null,null,null,{"$f":"IF(G9<S9,\"NOVO\",IF(H9<T9,\"NOVO ženy\",\" \"))","v":" "},{"$f":"IF(S9=G9,IF(T9<>H9,\"Novo ženy<>ženy 1r\",\" \"),IF(G9-H9<S9-T9,\"Nesprávne ženy\",\" \"))","v":" "},null,{"$f":"IF(G9>1,IF(S9=0,\"Nevyplnení novo\",\" \"),\" \")","v":" "},null,{"$f":"IF(G9<H9,\"ŽENY 1.\",IF(I9<J9,\"ŽENY 2.\",IF(K9<L9,\"ŽENY 3.\",IF(M9<N9,\"ŽENY 4.\",IF(O9<P9,\"ŽENY 5.\",IF(Q9<R9,\"ŽENY 6.\",IF(S9<T9,\"ŽENY novo\",\" \")))))))","v":" "},null,{"$f":"IF(AND(A8>0,E9=0),\"nulové údaje\",\" \")","v":" "},null,null,null,{"$f":"IF(LEFT(C8,1)=\"1\",E9,0)","v":0},{"$f":"IF(LEFT(C8,1)=\"1\",F9,0)","v":0},{"$f":"IF(LEFT(C8,1)=\"1\",S9,0)","v":0},{"$f":"IF(LEFT(C8,1)=\"1\",T9,0)","v":0},{"$f":"IF(LEFT(C8,1)=\"2\",E9,0)","v":0},{"$f":"IF(LEFT(C8,1)=\"2\",F9,0)","v":0},{"$f":"IF(LEFT(C8,1)=\"2\",S9,0)","v":0},{"$f":"IF(LEFT(C8,1)=\"2\",T9,0)","v":0},{"$f":"IF(LEFT(C8,1)=\"3\",E9,0)","v":0},{"$f":"IF(LEFT(C8,1)=\"3\",F9,0)","v":0},{"$f":"IF(LEFT(C8,1)=\"3\",S9,0)","v":0},{"$f":"IF(LEFT(C8,1)=\"3\",T9,0)","v":0}]

{"sheet":"II.,III.","index":5,"n_rows":35,"n_cols":14,"rows_kept":35,"cut":false,"hidden":false,"merged":[[3,10,3,11],[30,8,30,12],[8,12,8,13],[9,12,9,13],[12,12,12,13],[28,8,28,12],[29,8,29,12],[14,12,14,13],[16,2,16,11],[10,12,10,13],[4,4,5,5],[4,6,5,7],[4,8,5,9],[25,8,26,13],[11,2,11,11],[15,0,15,3],[2,12,2,13],[3,12,3,13],[4,12,4,13],[5,12,5,13],[11,0,11,1],[1,0,6,0],[1,1,6,1],[1,2,1,11],[2,2,2,9],[2,10,2,11],[3,2,6,2],[4,10,4,11],[5,3,6,3],[1,12,1,13],[3,3,4,3],[3,4,3,9],[24,8,24,13],[5,10,5,11],[6,12,6,13],[7,12,7,13],[13,12,13,13],[21,0,23,0],[21,1,23,1],[21,2,23,2],[24,4,24,7],[23,4,23,7]]}
["II. Novoprijatí na štúdium v 1. akademickom roku  (bez opakovane zapísaných)",null,null,null,null,null,null,null,null,null,null,null,"Fakulta",{"$f":"Identif!AV4","v":0}]
[null,"I.r.","Novoprijatí  so slovenským štátnym občianstvom - denná forma štúdia"]
[null,null,"bakalárske a spojené (I. a II. stupeň spojený do jedného celku) štúdium",null,null,null,null,null,null,null,"pokračujúce"]
[null,null,"spolu","z toho","zo stĺ 2 a 3, ktorí získali úplné stredné vzdelanie v odbore",null,null,null,null,null,"štúdium"]
[null,null,null,null,"xxxx 5, J",null,"xxxx 6, 7, M, N, Q",null,"xxxx 4, K, L",null,"II. stupeň"]
[null,null,null,"ženy"]
[null,null,null,null,"spolu","ženy","spolu","ženy","spolu","ženy","spolu","ženy","Výpis chýb odd. II."]
["a",1,2,3,4,5,6,7,8,9,10,11,"v jednotlivých riadkoch"]
["Priamo zo škôl","0201",{"$f":"SUM(E9+G9+I9)","v":0},0,null,null,null,null,null,null,null,null,{"$f":"IF(E9<F9,\"r0201 stĺ. 4 < stĺ. 5\",IF(G9<H9,\"r0201 stĺ. 6 < stĺ. 7\",IF(I9<J9,\"r0201 stĺ. 8 < stĺ. 9\",IF(K9<L9,\"r0201 stĺ. 10 < stĺ. 11\",\" \"))))","v":" "}]
["Z pracovísk a odinakiaľ","0202",0,0,null,null,null,null,null,null,null,null,{"$f":"IF(E10<F10,\"r0202 stĺ. 4 < stĺ. 5\",IF(G10<H10,\"r0202 stĺ. 6 < stĺ. 7\",IF(I10<J10,\"r0202 stĺ. 8 < stĺ. 9\",IF(K10<L10,\"r0202 stĺ. 10 < stĺ. 11\",\" \"))))","v":" "}]
["Spolu (0201 a 0202)","0203",0,0,{"$f":"SUM(E9:E10)","v":0},{"$f":"SUM(F9:F10)","v":0},0,0,0,0,0,{"$f":"SUM(L9:L10)","v":0},{"$f":"IF(AND(C11>0,C9=0),\"Nikto priamo zo školy?\",\" \")","v":" "}]
[null,null,"Novoprijatí  so slovenským štátnym občianstvom - externá forma štúdia"]
["Priamo zo škôl","0204",{"$f":"SUM(E13+G13+I13)","v":0},0,null,null,null,null,null,null,null,null,{"$f":"IF(E13<F13,\"r0204 stĺ. 4 < stĺ. 5\",IF(G13<H13,\"r0204 stĺ. 6 < stĺ. 7\",IF(I13<J13,\"r0204 stĺ. 8 < stĺ. 9\",IF(K13<L13,\"r0204 stĺ. 10 < stĺ. 11\",\" \"))))","v":" "}]
["Z pracovísk a odinakiaľ","0205",0,0,null,null,null,null,null,null,null,null,{"$f":"IF(E14<F14,\"r0205 stĺ. 4 < stĺ. 5\",IF(G14<H14,\"r0205 stĺ. 6 < stĺ. 7\",IF(I14<J14,\"r0205 stĺ. 8 < stĺ. 9\",IF(K14<L14,\"r0205 stĺ. 10 < stĺ. 11\",\" \"))))","v":" "}]
["Spolu (0204 a 0205)","0206",0,0,{"$f":"SUM(E13:E14)","v":0},0,0,0,0,0,0,0,{"$f":"IF(AND(C15>0,C13=0),\"Nikto priamo zo školy?\",\" \")","v":" "}]
["Kontrola odd. II. na odd. I. novoprijatí podľa odborov"]
[null,null,{"$f":"IF(SUM(C11+D11+K11+L11+C15+D15+K15+L15)<>SUM(C18+D18+C19+D19+K18+L18+K19+L19),\"Súčet novoprijatých je rôzny od súčtu podľa odborov v oranžovo vyznačených poliach\",\" \")","v":" "}]
["denné (I. odd. na R 0203)",null,{"$f":"'I.den SR'!AH6+'I.den SR'!AP6","v":0},{"$f":"'I.den SR'!AI6+'I.den SR'!AQ6","v":0},null,null,null,null,null,null,{"$f":"'I.den SR'!AL6","v":0},{"$f":"'I.den SR'!AM6","v":0}]
["externé (I. odd. na R 0206)",null,{"$f":"'I.ext SR'!AH6+'I.ext SR'!AP6","v":0},{"$f":"'I.ext SR'!AI6+'I.ext SR'!AQ6","v":0},null,null,null,null,null,null,{"$f":"'I.ext SR'!AL6","v":0},{"$f":"'I.ext SR'!AM6","v":0}]
[]
["III. Študenti slov. štátneho občianstva dennej formy štúdia podľa národnosti - oddiel sa od roku 2014 nevypĺňa"]
[null,"I.r.","Spolu","z toho"]
[null,null,null,"novoprijatí"]
[null,null,null,null,"Výpis chýb odd. III."]
["a",1,2,3,"v jednotlivých riadkoch",null,null,null,"Kontrola odd. III. na odd. I. študujúci a novoprijatí podľa odborov"]
["Slovenská","0301",null,null,null,null,null,null,{"$f":"IF(C35<>N29,\"Národnosť je rôzna od súčtu študujúcich alebo novoprijatých podľa odborov v oranžovo vyznačených poliach\",IF(D35<>N30,\"Národnosť je rôzna od súčtu študujúcich alebo novoprijatých podľa odborov v oranžovo vyznačených poliach\",\" \"))","v":" "}]
["Česká, moravská a sliezska","0302"]
["Ukrajinská","0303"]
["Rusínska","0304",null,null,null,null,null,null,"denné (študujúci z I. odd. na R 0316 stĺ. 2)",null,null,null,null,{"$f":"'I.den SR'!E5","v":0}]
["Maďarská","0305",null,null,null,null,null,null,"denné (novoprijatí z I. odd. na R 0316 stĺ. 3)",null,null,null,null,{"$f":"'I.den SR'!AH6+'I.den SR'!AP6","v":0}]
["Poľská","0306",null,null,null,null,null,null,"(len novoprijatí z I. stupňa a spojeného štúdia)"]
["Nemecká","0307"]
["Rómska","0308"]
["Iná","0309"]
["Spolu (0301 až 0309)","0316",{"$f":"'I.den SR'!E5","v":0},{"$f":"'I.den SR'!AH6+'I.den SR'!AP6","v":0}]

{"sheet":"IV.den","index":6,"n_rows":7,"n_cols":25,"rows_kept":7,"cut":false,"hidden":false,"merged":[[0,4,0,5],[0,9,0,14],[2,19,3,20],[2,21,3,22],[2,23,3,24],[1,12,1,14],[6,10,6,12],[1,8,3,9],[4,1,4,2],[1,4,3,4],[1,5,3,5],[1,3,3,3],[1,6,1,7],[2,6,2,7],[5,8,5,13],[2,10,2,11],[5,0,5,1],[1,0,2,2],[3,1,3,2]]}
["IV. Študenti cudzinci podľa štátneho občianstva",null,null,null,"DENNÁ FORMA",null,"Fakulta",{"$f":"Identif!AV4","v":0},{"$f":"COUNTA(A8:A300)","v":0},"Kontrola odd. IV. na odd. I. cudzinci podľa odborov - denná forma",null,null,null,null,null,null,null,null,null,"Pomocné nápočty pre cudzincov"]
[null,null,null,"Druh","spolu","ženy","z toho s trvalým",null,{"$f":"IF(E6<>L4,\"Súčet S2,  S3<>súčet podľa odborov v oranžovo vyznačených poliach\",IF(F6<>L5,\"Súčet S2,  S3<>súčet podľa odborov v oranžovo vyznačených poliach\",\" \"))","v":" "},null,null,null,"podľa druhu",null,null,null,null,null,null,"DRUHST= 1x ",null,"DRUHST= 2x ",null,"DRUHST= 3x "]
[null,null,null,null,null,null,"pobytom v SR",null,null,null,"cudzinci z I. odd.",null,"bakalárske","pokračuj.","súvislé",null,null,null,null,"1. - 6.",null,"1. - 6.",null,"1. - 6."]
["kód","názov štátu",null,null,null,null,"spolu","ženy",null,null,"spolu",{"$f":"'I.den cudz'!E5","v":0},{"$f":"'I.den cudz'!AF6","v":0},{"$f":"'I.den cudz'!AJ6","v":0},{"$f":"'I.den cudz'!AN6","v":0}]
["a","b",null,"c",2,3,4,5,null,null,"ženy",{"$f":"'I.den cudz'!F5","v":0},{"$f":"'I.den cudz'!AG6","v":0},{"$f":"'I.den cudz'!AK6","v":0},{"$f":"'I.den cudz'!AO6","v":0},null,null,null,null,"spolu","ženy","spolu","ženy","spolu","ženy"]
["Spolu",null,"D",null,{"$f":"SUM(E7:E1000)","v":0},{"$f":"SUM(F7:F1000)","v":0},{"$f":"SUM(G7:G1000)","v":0},{"$f":"SUM(H7:H1000)","v":0},"Výpis chýb odd. IV. v jednotlivých riadkoch",null,null,null,null,null,null,null,null,null,null,{"$f":"SUM(T7:T1500)","v":0},0,0,0,0,0]
[null,null,"D",null,null,null,null,null,{"$f":"IF(E7<F7,\" stĺ. 2 < stĺ. 3\",IF(E7<G7,\"stĺ. 2 < stĺ. 4\",IF(F7<H7,\"stĺ. 3 < stĺ. 5\",IF(G7<H7,\"stĺ. 4 < stĺ. 5\",\" \"))))","v":" "},{"$f":"IF(E7=G7,IF(F7<>H7,\"S2 = S4 a S3 <> S5\",\" \"),\" \")","v":" "},{"$f":"IF(G7-H7>E7-F7,\"Nesprávne ženy v S3 alebo S5\",\" \")","v":" "},null,null,{"$f":"IF(A7=0,IF(E7>0,\"nevyplnený štát\",\" \"),IF(A7>0,IF(E7=0,\"nulové údaje\",\" \"),\" \"))","v":" "},null,null,null,null,null,{"$f":"IF(LEFT($D7,1)=\"1\",$E7,0)","v":0},{"$f":"IF(LEFT($D7,1)=\"1\",$F7,0)","v":0},{"$f":"IF(LEFT($D7,1)=\"2\",$E7,0)","v":0},{"$f":"IF(LEFT($D7,1)=\"2\",$F7,0)","v":0},{"$f":"IF(LEFT($D7,1)=\"3\",$E7,0)","v":0},{"$f":"IF(LEFT($D7,1)=\"3\",$F7,0)","v":0}]

{"sheet":"IV.ext","index":7,"n_rows":7,"n_cols":25,"rows_kept":7,"cut":false,"hidden":false,"merged":[[0,9,0,14],[2,19,3,20],[2,21,3,22],[2,23,3,24],[1,8,3,9],[1,12,1,14],[2,10,2,11],[6,10,6,12],[5,8,5,13],[1,6,1,7],[1,3,3,3],[2,6,2,7],[1,0,2,2],[3,1,3,2],[5,0,5,1],[4,1,4,2],[0,4,0,5],[1,4,3,4],[1,5,3,5]]}
["IV. Študenti cudzinci podľa štátneho občianstva",null,null,null,"EXTERNÁ FORMA",null,"Fakulta",{"$f":"Identif!AV4","v":0},{"$f":"COUNTA(A8:A300)","v":0},"Kontrola odd. IV. na odd. I. cudzinci podľa odborov - externá forma",null,null,null,null,null,null,null,null,null,"Pomocné nápočty pre cudzincov"]
[null,null,null,"Druh","spolu","ženy","z toho s trvalým",null,{"$f":"IF(E6<>L4,\"Súčet S2,  S3<>súčet podľa odborov v oranžovo vyznačených poliach\",IF(F6<>L5,\"Súčet S2,  S3<>súčet podľa odborov v oranžovo vyznačených poliach\",\" \"))","v":" "},null,null,null,"podľa druhu",null,null,null,null,null,null,"DRUHST= 1x ",null,"DRUHST= 2x ",null,"DRUHST= 3x "]
[null,null,null,null,null,null,"pobytom v SR",null,null,null,"cudzinci z I. odd.",null,"bakalárske","pokračuj.","súvislé",null,null,null,null,"1. - 6.",null,"1. - 6.",null,"1. - 6."]
["kód","názov štátu",null,null,null,null,"spolu","ženy",null,null,"spolu",{"$f":"'I.ext cudz'!E5","v":0},{"$f":"'I.ext cudz'!AF6","v":0},{"$f":"'I.ext cudz'!AJ6","v":0},{"$f":"'I.ext cudz'!AN6","v":0}]
["a","b",null,"c",2,3,4,5,null,null,"ženy",{"$f":"'I.ext cudz'!F5","v":0},{"$f":"'I.ext cudz'!AG6","v":0},{"$f":"'I.ext cudz'!AK6","v":0},{"$f":"'I.ext cudz'!AO6","v":0},null,null,null,null,"spolu","ženy","spolu","ženy","spolu","ženy"]
["Spolu",null,"E",null,{"$f":"SUM(E7:E1000)","v":0},{"$f":"SUM(F7:F1000)","v":0},{"$f":"SUM(G7:G1000)","v":0},{"$f":"SUM(H7:H1000)","v":0},"Výpis chýb odd. IV. v jednotlivých riadkoch",null,null,null,null,null,null,null,null,null,null,{"$f":"SUM(T7:T1500)","v":0},0,0,0,0,0]
[null,null,"E",null,null,null,null,null,{"$f":"IF(E7<F7,\" stĺ. 2 < stĺ. 3\",IF(E7<G7,\"stĺ. 2 < stĺ. 4\",IF(F7<H7,\"stĺ. 3 < stĺ. 5\",IF(G7<H7,\"stĺ. 4 < stĺ. 5\",\" \"))))","v":" "},{"$f":"IF(E7=G7,IF(F7<>H7,\"S2 = S4 a S3 <> S5\",\" \"),\" \")","v":" "},{"$f":"IF(G7-H7>E7-F7,\"Nesprávne ženy v S3 alebo S5\",\" \")","v":" "},null,null,{"$f":"IF(A7=0,IF(E7>0,\"nevyplnený štát\",\" \"),IF(A7>0,IF(E7=0,\"nulové údaje\",\" \"),\" \"))","v":" "},null,null,null,null,null,{"$f":"IF(LEFT($D7,1)=\"1\",$E7,0)","v":0},{"$f":"IF(LEFT($D7,1)=\"1\",$F7,0)","v":0},{"$f":"IF(LEFT($D7,1)=\"2\",$E7,0)","v":0},{"$f":"IF(LEFT($D7,1)=\"2\",$F7,0)","v":0},{"$f":"IF(LEFT($D7,1)=\"3\",$E7,0)","v":0},{"$f":"IF(LEFT($D7,1)=\"3\",$F7,0)","v":0}]

{"sheet":"V.,VI.","index":8,"n_rows":37,"n_cols":18,"rows_kept":37,"cut":false,"hidden":false,"merged":[[8,1,8,4],[7,0,23,0],[34,10,34,11],[34,6,34,7],[31,0,31,4],[34,0,34,4],[34,8,34,9],[32,0,32,4],[32,6,32,7],[32,8,32,9],[27,8,28,9],[27,10,27,11],[30,8,30,9],[30,10,30,11],[31,10,31,11],[31,6,31,7],[31,8,31,9],[12,1,23,1],[12,2,12,4],[13,2,13,4],[14,5,15,5],[14,7,15,7],[14,8,15,8],[18,8,19,8],[36,16,36,17],[1,6,3,6],[31,16,31,17],[4,0,4,4],[1,8,1,14],[2,8,2,9],[2,10,3,10],[2,11,3,11],[2,12,3,12],[2,13,3,13],[2,14,3,14],[1,0,3,4],[1,5,3,5],[6,0,6,2],[6,3,6,4],[5,0,5,2],[5,3,5,4],[32,10,32,11],[33,0,33,4],[33,6,33,7],[33,8,33,9],[33,10,33,11],[30,0,30,4],[30,6,30,7],[20,15,21,17],[22,15,23,17],[30,12,30,15],[29,12,29,15],[26,16,26,17],[22,13,23,13],[22,14,23,14],[20,12,21,12],[22,2,23,4],[26,5,28,5],[26,6,26,11],[29,6,29,7],[29,8,29,9],[27,6,28,7],[20,5,21,5],[20,6,21,6],[20,9,21,9],[20,10,21,10],[20,11,21,11],[22,9,23,9],[22,10,23,10],[22,11,23,11],[20,13,21,13],[16,5,17,5],[16,6,17,6],[16,7,17,7],[16,8,17,8],[24,0,24,4],[26,0,28,4],[22,5,23,5],[22,6,23,6],[22,7,23,7],[20,8,21,8],[22,8,23,8],[7,15,7,17],[14,10,15,10],[14,11,15,11],[14,12,15,12],[14,13,15,13],[14,14,15,14],[29,0,29,4],[29,10,29,11],[7,1,7,4],[11,1,11,3],[16,2,17,4],[14,2,15,4],[10,1,10,3],[14,6,15,6],[9,1,9,3],[28,10,28,11],[14,9,15,9],[18,2,19,4],[20,2,21,4],[20,7,21,7],[16,14,17,14],[18,5,19,5],[18,6,19,6],[18,7,19,7],[18,9,19,9],[18,10,19,10],[18,11,19,11],[18,12,19,12],[18,13,19,13],[16,9,17,9],[16,10,17,10],[16,11,17,11],[16,12,17,12],[16,13,17,13],[35,16,35,17],[3,15,3,17],[4,15,4,17],[6,16,6,17],[5,16,5,17],[8,15,8,17],[9,15,9,17],[10,15,10,17],[11,15,11,17],[31,12,31,15],[32,12,32,15],[32,16,32,17],[33,12,33,15],[22,12,23,12],[12,15,12,17],[13,15,13,17],[14,15,15,17],[16,15,17,17],[18,15,19,17],[28,12,28,15],[28,16,28,17],[27,16,27,17],[20,14,21,14],[18,14,19,14]]}
["V. Ostatné formy štúdia",null,null,null,null,null,null,null,null,null,null,null,null,null,null,"Fakulta",{"$f":"Identif!AV4","v":0}]
[null,null,null,null,null,"I.r.","Spolu",null,"zo stĺpca 2 v akademickom roku"]
[null,null,null,null,null,null,null,"z toho","1.",null,"2.","3.","4.","5.","6."]
[null,null,null,null,null,null,null,"ženy","spolu","novopr.",null,null,null,null,null,"Výpis chýb odd. V."]
["a",null,null,null,null,1,2,3,4,5,6,7,8,9,10,"v jednotlivých riadkoch"]
["Mimoriadne",null,null,"študujúci spolu",null,"0501",{"$f":"SUM(I6+K6+L6+M6+N6+O6)","v":0},"x",null,null,null,null,null,null,null,{"$f":"IF(I6<J6,\"S4 < S5\",\" \")","v":" "},{"$f":"IF(I7>I6,\"r0501<r0502 S4\",IF(J7>J6,\"r0501<r0502 S5\",IF(K7>K6,\"r0501<r0502 S6\",IF(L7>L6,\"r0501<r0502 S7\",IF(M7>M6,\"r0501<r0502 S8\",IF(N7>N6,\"r0501<r0502 S9\",IF(O7>O6,\"r0501<r0502 S10\",\" \")))))))","v":" "}]
["štúdium",null,null,"z toho ženy",null,"0502",0,"x",null,null,null,null,null,null,null,{"$f":"IF(I7<J7,\"S4 < S5\",\" \")","v":" "},{"$f":"IF(I6=I7,IF(J6<>J7,\"Novo ženy<>ženy 1r\",\" \"),IF(I7-J7>I6-J6,\"Nesprávne ženy v r0502\",\" \"))","v":" "}]
["Zvláštne druhy štúdia","študujúci spolu (0505 až 0514)",null,null,null,"0503",0,"x",{"$f":"SUM(I10:I23)","v":0},0,0,0,0,0,0,{"$f":"IF(I8<I9,\"r0503 < r0504 S4\",IF(J8<J9,\"r0503 < r0504 S5\",IF(K8<K9,\"r0503 < r0504 S6\",IF(L8<L9,\"r0503 < r0504 S7\",IF(M8<M9,\"r0503 < r0504 S8\",IF(N8<N9,\"r0503 < r0504 S 9\",IF(O8<O9,\"r0503 < r0504 S10\",\" \")))))))","v":" "}]
[null,"z toho ženy",null,null,null,"0504",0,"x",null,null,null,null,null,null,null,{"$f":"IF(G9<>SUM(H10:H23),\"r0504 s4+6 až 10<>s3 r0505 až 0514\",IF(I9<J9,\"r0504 S4 < S5\",\" \"))","v":" "}]
[null,"doplňujúce",null,null,"absolventov VŠ","0505",0,null,null,null,null,null,null,null,null,{"$f":"IF(G10<H10,\"r0505 S2 < S3\",IF(I10<J10,\"r0505 S4 < S5\",\" \"))","v":" "}]
[null,"pedagogické",null,null,"absolventov SŠ","0506",0,null,null,null,null,null,null,null,null,{"$f":"IF(G11<H11,\"r0506 S2 < S3\",IF(I11<J11,\"r0506 S4 < S5\",\" \"))","v":" "}]
[null,"štúdium pre",null,null,"študentov VŠ","0507",0,null,null,null,null,null,null,null,null,{"$f":"IF(G12<H12,\"r0507 S2 < S3\",IF(I12<J12,\"r0507 S4 < S5\",\" \"))","v":" "}]
[null,"rozširujúce štúdium","na vyučovanie ďalšieho VVP",null,null,"0508",0,null,null,null,null,null,null,null,null,{"$f":"IF(G13<H13,\"r0508 S2 < S3\",IF(I13<J13,\"r0508 S4 < S5\",\" \"))","v":" "}]
[null,null,"na vyučovanie VVP",null,null,"0509",0,null,null,null,null,null,null,null,null,{"$f":"IF(G14<H14,\"r0509 S2 < S3\",IF(I14<J14,\"r0509 S4 < S5\",\" \"))","v":" "}]
[null,null,"na vyučovanie a odb. výchovu v špeciálnych školách 2 ročné",null,null,"0510",0,null,null,null,null,null,null,null,null,{"$f":"IF(G15<H15,\"r0510 S2 < S3\",IF(I15<J15,\"r0510 S4 < S5\",\" \"))","v":" "}]
[]
[null,null,"na výchovu v MŠ pre deti so špec. výchovno-vzdelávacími potrebami",null,null,"0511",{"$f":"SUM(I17+K17+L17+M17+N17+O17)","v":0},null,null,null,null,null,null,null,null,{"$f":"IF(G17<H17,\"r0511 S2 < S3\",IF(I17<J17,\"r0511 S4 < S5\",\" \"))","v":" "}]
[]
[null,null,"na vyučovanie v špeciálnych školách 3 ročné",null,null,"0512",{"$f":"SUM(I19+K19+L19+M19+N19+O19)","v":0},null,null,null,null,null,null,null,null,{"$f":"IF(G19<H19,\"r0512 S2 < S3\",IF(I19<J19,\"r0512 S4 < S5\",\" \"))","v":" "}]
[]
[null,null,"na vyučovanie odborných predmetov na stredných školách",null,null,"0513",{"$f":"SUM(I21+K21+L21+M21+N21+O21)","v":0},null,null,null,null,null,null,null,null,{"$f":"IF(G21<H21,\"r0513 S2 < S3\",IF(I21<J21,\"r0513 S4 < S5\",\" \"))","v":" "}]
[]
[null,null,"pre výchovnú činnosť v špeciálnych školách a zariadeniach",null,null,"0514",{"$f":"SUM(I23+K23+L23+M23+N23+O23)","v":0},null,null,null,null,null,null,null,null,{"$f":"IF(G23<H23,\"r0514 S2 < S3\",IF(I23<J23,\"r0514 S4 < S5\",\" \"))","v":" "}]
[]
["Kontrolný súčet (0501 až 0514)",null,null,null,null,"0516",{"$f":"SUM(G6:G23)","v":0},0,0,0,0,0,0,0,0]
[]
["VI. Štipendiá za minulý akademický rok",null,null,null,null,"I.r.","Štipendium",null,null,null,null,null,null,null,null,null,"Kontrolný prepočet"]
[null,null,null,null,null,null,"sociálne",null,"motivačné a ostatné",null,"z vlastných",null,null,null,null,null,"priemerných štipendií"]
[null,null,null,null,null,null,null,null,null,null,"zdrojov",null,"Výpis chýb odd. VI.",null,null,null,"na 1 štipendistu"]
["a",null,null,null,null,1,2,null,3,null,4,null,"v jednotlivých riadkoch",null,null,null,"sociálne","ostatné"]
["Priemerný počet štipendistov",null,null,null,null,"0601",null,null,null,null,"x",null,{"$f":"IF(AND(G31>0,G33=0),\"S2 r0601>0 a r0603=0 alebo naopak\",IF(AND(G31=0,G33>0),\"S2 r0601>0 a r0603=0 alebo naopak\",\" \"))","v":" "},null,null,null,{"$f":"IF(G31>0,AVERAGE(G33/G31),0)","v":0},{"$f":"IF(I31>0,AVERAGE(I33/I31),0)","v":0}]
["Počet štipendistov (fyzické osoby)",null,null,null,null,"0602","x",null,"x",null,null,null,{"$f":"IF(AND(I31>0,I33=0),\"S3 r0601>0 a r0603=0 alebo naopak\",IF(AND(I31=0,I33>0),\"S3 r0601>0 a r0603=0 alebo naopak\",\" \"))","v":" "},null,null,null,"mimoriadne"]
["Vyplatená čiastka za rok v €",null,null,null,null,"0603",null,null,0,null,null,null,{"$f":"IF(AND(K32>0,K33=0),\"S4 r0602>0 a r0603=0 alebo naopak\",IF(AND(K32=0,K33>0),\"S4 r0602>0 a r0603=0 alebo naopak\",\" \"))","v":" "},null,null,null,{"$f":"IF(K32>0,AVERAGE(K33/K32),0)","v":0}]
["z toho zo štátneho rozpočtu",null,null,null,null,"0604",null,null,null,null,"x",null,{"$f":"IF(OR(G33<G34,I33<I34),\"Riadok 0604 je väčší ako riadok 0603\",\" \")","v":" "}]
["Kontrolný súčet  (0601 až 0604)",null,null,null,null,"0616",{"$f":"SUM(G31:H34)","v":0},null,{"$f":"SUM(I31:J34)","v":0},null,{"$f":"SUM(K32:L34)","v":0}]
[null,null,null,null,null,null,null,null,null,null,null,null,null,null,null,null,{"$f":"IF(OR(AND(Q31<=10,Q31>0),AND(R31<=10,R31>0),AND(Q33<=10,Q33>0)),\"Malý priemer\",\" \")","v":" "}]
[null,null,null,null,null,null,null,null,null,null,null,null,null,null,null,null,{"$f":"IF(OR(Q31>3000,R31>664,Q33>450),\"Veľký priemer \",\" \")","v":" "}]

{"sheet":"V11a","index":9,"n_rows":89,"n_cols":27,"rows_kept":89,"cut":false,"hidden":false,"merged":[[1,3,1,10],[2,0,2,1],[1,11,1,18],[2,11,2,14],[3,11,3,12],[2,15,2,18],[3,15,3,16],[3,17,4,18],[4,15,4,16],[2,3,2,6],[3,3,3,4],[2,7,2,10],[3,7,3,8],[3,9,4,10],[4,7,4,8],[4,3,4,4],[27,3,27,18],[3,13,4,14],[4,11,4,12],[3,19,3,26],[4,19,4,26],[6,19,6,26],[3,5,4,6],[25,0,25,18],[3,0,3,1],[4,0,4,1],[1,2,5,2],[1,0,1,1],[5,0,5,1],[6,0,6,1],[23,0,23,1],[7,0,22,0],[31,0,31,1],[31,2,35,2],[31,3,31,10],[31,11,31,18],[32,0,32,1],[32,3,32,6],[32,7,32,10],[32,11,32,14],[32,15,32,18],[33,0,33,1],[33,3,33,4],[33,5,34,6],[33,7,33,8],[33,9,34,10],[33,11,33,12],[33,13,34,14],[33,15,33,16],[33,17,34,18],[33,19,33,26],[34,0,34,1],[34,3,34,4],[34,7,34,8],[34,11,34,12],[34,15,34,16],[34,19,34,26],[35,0,35,1],[36,0,36,1],[36,19,36,26],[37,0,52,0],[53,0,53,1],[55,0,55,18],[57,3,57,18],[61,0,61,1],[61,2,65,2],[61,3,61,10],[61,11,61,18],[62,0,62,1],[62,3,62,6],[62,7,62,10],[62,11,62,14],[62,15,62,18],[63,0,63,1],[63,3,63,4],[63,5,64,6],[63,7,63,8],[63,9,64,10],[63,11,63,12],[63,13,64,14],[63,15,63,16],[63,17,64,18],[63,19,63,26],[64,19,64,26],[64,0,64,1],[64,3,64,4],[64,7,64,8],[64,11,64,12],[64,15,64,16],[85,0,85,18],[87,3,87,18],[65,0,65,1],[66,0,66,1],[66,19,66,26],[67,0,82,0],[83,0,83,1]]}
["IX. Veková štruktúra študujúcich a novoprijatých - ",null,null,null,null,null,"I. stupeň bakalárske štúdium",null,null,null,null,null,null,null,null,null,null,"Fakulta",{"$f":"Identif!AV4","v":0}]
[null,null,"I.r.","Študujúci vr. novoprijatých vo forme štúdia",null,null,null,null,null,null,null,"Novoprijatí vo forme štúdia"]
["Dosiahnutý",null,null,"dennej",null,null,null,"externej",null,null,null,"dennej",null,null,null,"externej"]
["vek od 1. 1.",null,null,"slov. štátneho",null,"cudzinci",null,"slov. štátneho",null,"cudzinci",null,"slov. štátneho",null,"cudzinci",null,"slov. štátneho",null,"cudzinci",null,"Výpis chýb v oddiele IX."]
["do 31. 12.",null,null,"občianstva",null,null,null,"občianstva",null,null,null,"občianstva",null,null,null,"občianstva",null,null,null,"v jednotlivých riadkoch"]
[null,null,null,"spolu","ženy","spolu","ženy","spolu","ženy","spolu","ženy","spolu","ženy","spolu","ženy","spolu","ženy","spolu","ženy"]
["a",null,"b",1,2,3,4,5,6,7,8,9,10,11,12,13,14,15,16,{"$f":"IF(SUM(D8:S8)>0,\"Vyplnení 17-roční v žltých poliach - nepravdepodobný údaj - pravda? Pre Ukrajinu OK\",\" \")","v":" "}]
["Študujúci a novoprijatí podľa veku (v rokoch)",17,"0901",null,null,null,null,null,null,null,null,null,null,null,null,null,null,null,null,{"$f":"IF(D8<E8,\"stĺ. 1 < stĺ. 2\",IF(F8<G8,\"stĺ. 3 < stĺ. 4\",IF(H8<I8,\"stĺ. 5 < stĺ. 6\",IF(J8<K8,\"stĺ. 7 < stĺ. 8\",\" \"))))","v":" "},{"$f":"IF(L8<M8,\"stĺ. 9 < stĺ. 10\",IF(N8<O8,\"stĺ. 11 < stĺ. 12\",IF(P8<Q8,\"stĺ. 13 < stĺ. 14\",IF(R8<S8,\"stĺ. 15 < stĺ. 16\",\" \"))))","v":" "},{"$f":"IF(D8<L8,\"stĺ. 1 < stĺ. 9\",IF(E8<M8,\"stĺ. 2 < stĺ. 10\",IF(F8<N8,\"stĺ. 3 < stĺ. 11\",IF(G8<O8,\"stĺ. 4 < stĺ. 12\",\" \"))))","v":" "},{"$f":"IF(H8<P8,\"stĺ. 5 < stĺ. 13\",IF(I8<Q8,\"stĺ. 6 < stĺ. 14\",IF(J8<R8,\"stĺ. 7 < stĺ. 15\",IF(K8<S8,\"stĺ. 8 < stĺ. 16\",\" \"))))","v":" "},{"$f":"IF(D8=L8,IF(E8<>M8,\"S1=S9 a S2<>S10\",\" \"),IF(D8-E8<L8-M8,\"Zle ženy v S10\",\" \"))","v":" "},{"$f":"IF(F8=N8,IF(G8<>O8,\"S3=S11 a S4<>S12\",\" \"),IF(F8-G8<N8-O8,\"Zle ženy v S12\",\" \"))","v":" "},{"$f":"IF(H8=P8,IF(I8<>Q8,\"S5=S13 a S6<>S14\",\" \"),IF(H8-I8<P8-Q8,\"Zle ženy v S14\",\" \"))","v":" "},{"$f":"IF(J8=R8,IF(K8<>S8,\"S7=S15 a S8<>S16\",\" \"),IF(J8-K8<R8-S8,\"Zle ženy v S16\",\" \"))","v":" "}]
[null,18,"0902",null,null,null,null,null,null,null,null,null,null,null,null,null,null,null,null,{"$f":"IF(D9<E9,\"stĺ. 1 < stĺ. 2\",IF(F9<G9,\"stĺ. 3 < stĺ. 4\",IF(H9<I9,\"stĺ. 5 < stĺ. 6\",IF(J9<K9,\"stĺ. 7 < stĺ. 8\",\" \"))))","v":" "},{"$f":"IF(L9<M9,\"stĺ. 9 < stĺ. 10\",IF(N9<O9,\"stĺ. 11 < stĺ. 12\",IF(P9<Q9,\"stĺ. 13 < stĺ. 14\",IF(R9<S9,\"stĺ. 15 < stĺ. 16\",\" \"))))","v":" "},{"$f":"IF(D9<L9,\"stĺ. 1 < stĺ. 9\",IF(E9<M9,\"stĺ. 2 < stĺ. 10\",IF(F9<N9,\"stĺ. 3 < stĺ. 11\",IF(G9<O9,\"stĺ. 4 < stĺ. 12\",\" \"))))","v":" "},{"$f":"IF(H9<P9,\"stĺ. 5 < stĺ. 13\",IF(I9<Q9,\"stĺ. 6 < stĺ. 14\",IF(J9<R9,\"stĺ. 7 < stĺ. 15\",IF(K9<S9,\"stĺ. 8 < stĺ. 16\",\" \"))))","v":" "},{"$f":"IF(D9=L9,IF(E9<>M9,\"S1=S9 a S2<>S10\",\" \"),IF(D9-E9<L9-M9,\"Zle ženy v S10\",\" \"))","v":" "},{"$f":"IF(F9=N9,IF(G9<>O9,\"S3=S11 a S4<>S12\",\" \"),IF(F9-G9<N9-O9,\"Zle ženy v S12\",\" \"))","v":" "},{"$f":"IF(H9=P9,IF(I9<>Q9,\"S5=S13 a S6<>S14\",\" \"),IF(H9-I9<P9-Q9,\"Zle ženy v S14\",\" \"))","v":" "},{"$f":"IF(J9=R9,IF(K9<>S9,\"S7=S15 a S8<>S16\",\" \"),IF(J9-K9<R9-S9,\"Zle ženy v S16\",\" \"))","v":" "}]
[null,19,"0903",null,null,null,null,null,null,null,null,null,null,null,null,null,null,null,null,{"$f":"IF(D10<E10,\"stĺ. 1 < stĺ. 2\",IF(F10<G10,\"stĺ. 3 < stĺ. 4\",IF(H10<I10,\"stĺ. 5 < stĺ. 6\",IF(J10<K10,\"stĺ. 7 < stĺ. 8\",\" \"))))","v":" "},{"$f":"IF(L10<M10,\"stĺ. 9 < stĺ. 10\",IF(N10<O10,\"stĺ. 11 < stĺ. 12\",IF(P10<Q10,\"stĺ. 13 < stĺ. 14\",IF(R10<S10,\"stĺ. 15 < stĺ. 16\",\" \"))))","v":" "}," "," "," "," "," "," "]
[null,20,"0904",null,null,null,null,null,null,null,null,null,null,null,null,null,null,null,null," "," "," "," "," "," "," "," "]
[null,21,"0905",null,null,null,null,null,null,null,null,null,null,null,null,null,null,null,null," "," "," "," "," "," "," "," "]
[null,22,"0906",null,null,null,null,null,null,null,null,null,null,null,null,null,null,null,null," "," "," "," "," "," "," "," "]
[null,23,"0907",null,null,null,null,null,null,null,null,null,null,null,null,null,null,null,null," "," "," "," "," "," "," "," "]
[null,24,"0908",null,null,null,null,null,null,null,null,null,null,null,null,null,null,null,null," "," "," "," "," "," "," "," "]
[null,25,"0909",null,null,null,null,null,null,null,null,null,null,null,null,null,null,null,null," "," "," "," "," "," "," "," "]
[null,26,"0910",null,null,null,null,null,null,null,null,null,null,null,null,null,null,null,null," "," "," "," "," "," "," "," "]
[null,27,"0911",null,null,null,null,null,null,null,null,null,null,null,null,null,null,null,null," "," "," "," "," "," "," "," "]
[null,28,"0912",null,null,null,null,null,null,null,null,null,null,null,null,null,null,null,null," "," "," "," "," "," "," "," "]
[null,29,"0913",null,null,null,null,null,null,null,null,null,null,null,null,null,null,null,null," "," "," "," "," "," "," "," "]
[null,"30 - 34","0914",null,null,null,null,null,null,null,null,null,null,null,null,null,null,null,null," "," "," "," "," "," "," "," "]
[null,"35 - 39","0915",null,null,null,null,null,null,null,null,null,null,null,null,null,null,null,null," "," "," "," "," "," "," "," "]
[null,"40 a viac","0916",null,null,null,null,null,null,null,null,null,null,null,null,null,null,null,null," "," "," "," "," "," "," "," "]
["Spolu (0901 až 0916)",null,"0926",{"$f":"SUM(D8:D23)","v":0},0,0,0,0,0,0,0,0,0,0,0,0,0,0,0]
[]
["Kontrola vekovej štruktúry na odd. I. študujúci a novoprijatí podľa odborov"]
[]
[null,null,null,{"$f":"IF(SUM(D24:S24)<>SUM(D29:S29),\"Súčet študujúcich resp. novoprijatých je rôzny od súčtu podľa odborov v oranžovo vyznačených poliach\",\" \")","v":" "}]
[null,null,null,{"$f":"'I.den SR'!AF6","v":0},{"$f":"'I.den SR'!AG6","v":0},{"$f":"'I.den cudz'!AF6","v":0},{"$f":"'I.den cudz'!AG6","v":0},{"$f":"'I.ext SR'!AF6","v":0},{"$f":"'I.ext SR'!AG6","v":0},{"$f":"'I.ext cudz'!AF6","v":0},{"$f":"'I.ext cudz'!AG6","v":0},{"$f":"'I.den SR'!AH6","v":0},{"$f":"'I.den SR'!AI6","v":0},{"$f":"'I.den cudz'!AH6","v":0},{"$f":"'I.den cudz'!AI6","v":0},{"$f":"'I.ext SR'!AH6","v":0},{"$f":"'I.ext SR'!AI6","v":0},{"$f":"'I.ext cudz'!AH6","v":0},{"$f":"'I.ext cudz'!AI6","v":0}]
[]
["IX. Veková štruktúra študujúcich a novoprijatých - ",null,null,null,null,null,"II. stupeň pokračujúce štúdium",null,null,null,null,null,null,null,null,null,null,"Fakulta",{"$f":"Identif!AV4","v":0}]
[null,null,"I.r.","Študujúci vr. novoprijatých vo forme štúdia",null,null,null,null,null,null,null,"Novoprijatí vo forme štúdia"]
["Dosiahnutý",null,null,"dennej",null,null,null,"externej",null,null,null,"dennej",null,null,null,"externej"]
["vek od 1. 1.",null,null,"slov. štátneho",null,"cudzinci",null,"slov. štátneho",null,"cudzinci",null,"slov. štátneho",null,"cudzinci",null,"slov. štátneho",null,"cudzinci",null,"Výpis chýb v oddiele IX."]
["do 31. 12.",null,null,"občianstva",null,null,null,"občianstva",null,null,null,"občianstva",null,null,null,"občianstva",null,null,null,"v jednotlivých riadkoch"]
[null,null,null,"spolu","ženy","spolu","ženy","spolu","ženy","spolu","ženy","spolu","ženy","spolu","ženy","spolu","ženy","spolu","ženy"]
["a",null,"b",1,2,3,4,5,6,7,8,9,10,11,12,13,14,15,16,{"$f":"IF(SUM(D38:S41)>0,\"Vyplnení mladší ako 21-roční v žltých poliach - nepravdepodobný údaj - pravda?  Pre Ukrajinu OK\",\" \")","v":" "}]
["Študujúci a novoprijatí podľa veku (v rokoch)",17,"0901",null,null,null,null,null,null,null,null,null,null,null,null,null,null,null,null,{"$f":"IF(D38<E38,\"stĺ. 1 < stĺ. 2\",IF(F38<G38,\"stĺ. 3 < stĺ. 4\",IF(H38<I38,\"stĺ. 5 < stĺ. 6\",IF(J38<K38,\"stĺ. 7 < stĺ. 8\",\" \"))))","v":" "},{"$f":"IF(L38<M38,\"stĺ. 9 < stĺ. 10\",IF(N38<O38,\"stĺ. 11 < stĺ. 12\",IF(P38<Q38,\"stĺ. 13 < stĺ. 14\",IF(R38<S38,\"stĺ. 15 < stĺ. 16\",\" \"))))","v":" "},{"$f":"IF(D38<L38,\"stĺ. 1 < stĺ. 9\",IF(E38<M38,\"stĺ. 2 < stĺ. 10\",IF(F38<N38,\"stĺ. 3 < stĺ. 11\",IF(G38<O38,\"stĺ. 4 < stĺ. 12\",\" \"))))","v":" "},{"$f":"IF(H38<P38,\"stĺ. 5 < stĺ. 13\",IF(I38<Q38,\"stĺ. 6 < stĺ. 14\",IF(J38<R38,\"stĺ. 7 < stĺ. 15\",IF(K38<S38,\"stĺ. 8 < stĺ. 16\",\" \"))))","v":" "},{"$f":"IF(D38=L38,IF(E38<>M38,\"S1=S9 a S2<>S10\",\" \"),IF(D38-E38<L38-M38,\"Zle ženy v S10\",\" \"))","v":" "},{"$f":"IF(F38=N38,IF(G38<>O38,\"S3=S11 a S4<>S12\",\" \"),IF(F38-G38<N38-O38,\"Zle ženy v S12\",\" \"))","v":" "},{"$f":"IF(H38=P38,IF(I38<>Q38,\"S5=S13 a S6<>S14\",\" \"),IF(H38-I38<P38-Q38,\"Zle ženy v S14\",\" \"))","v":" "},{"$f":"IF(J38=R38,IF(K38<>S38,\"S7=S15 a S8<>S16\",\" \"),IF(J38-K38<R38-S38,\"Zle ženy v S16\",\" \"))","v":" "}]
[null,18,"0902",null,null,null,null,null,null,null,null,null,null,null,null,null,null,null,null,{"$f":"IF(D39<E39,\"stĺ. 1 < stĺ. 2\",IF(F39<G39,\"stĺ. 3 < stĺ. 4\",IF(H39<I39,\"stĺ. 5 < stĺ. 6\",IF(J39<K39,\"stĺ. 7 < stĺ. 8\",\" \"))))","v":" "},{"$f":"IF(L39<M39,\"stĺ. 9 < stĺ. 10\",IF(N39<O39,\"stĺ. 11 < stĺ. 12\",IF(P39<Q39,\"stĺ. 13 < stĺ. 14\",IF(R39<S39,\"stĺ. 15 < stĺ. 16\",\" \"))))","v":" "},{"$f":"IF(D39<L39,\"stĺ. 1 < stĺ. 9\",IF(E39<M39,\"stĺ. 2 < stĺ. 10\",IF(F39<N39,\"stĺ. 3 < stĺ. 11\",IF(G39<O39,\"stĺ. 4 < stĺ. 12\",\" \"))))","v":" "},{"$f":"IF(H39<P39,\"stĺ. 5 < stĺ. 13\",IF(I39<Q39,\"stĺ. 6 < stĺ. 14\",IF(J39<R39,\"stĺ. 7 < stĺ. 15\",IF(K39<S39,\"stĺ. 8 < stĺ. 16\",\" \"))))","v":" "},{"$f":"IF(D39=L39,IF(E39<>M39,\"S1=S9 a S2<>S10\",\" \"),IF(D39-E39<L39-M39,\"Zle ženy v S10\",\" \"))","v":" "},{"$f":"IF(F39=N39,IF(G39<>O39,\"S3=S11 a S4<>S12\",\" \"),IF(F39-G39<N39-O39,\"Zle ženy v S12\",\" \"))","v":" "},{"$f":"IF(H39=P39,IF(I39<>Q39,\"S5=S13 a S6<>S14\",\" \"),IF(H39-I39<P39-Q39,\"Zle ženy v S14\",\" \"))","v":" "},{"$f":"IF(J39=R39,IF(K39<>S39,\"S7=S15 a S8<>S16\",\" \"),IF(J39-K39<R39-S39,\"Zle ženy v S16\",\" \"))","v":" "}]
[null,19,"0903",null,null,null,null,null,null,null,null,null,null,null,null,null,null,null,null,{"$f":"IF(D40<E40,\"stĺ. 1 < stĺ. 2\",IF(F40<G40,\"stĺ. 3 < stĺ. 4\",IF(H40<I40,\"stĺ. 5 < stĺ. 6\",IF(J40<K40,\"stĺ. 7 < stĺ. 8\",\" \"))))","v":" "},{"$f":"IF(L40<M40,\"stĺ. 9 < stĺ. 10\",IF(N40<O40,\"stĺ. 11 < stĺ. 12\",IF(P40<Q40,\"stĺ. 13 < stĺ. 14\",IF(R40<S40,\"stĺ. 15 < stĺ. 16\",\" \"))))","v":" "}," "," "," "," "," "," "]
[null,20,"0904",null,null,null,null,null,null,null,null,null,null,null,null,null,null,null,null," "," "," "," "," "," "," "," "]
[null,21,"0905",null,null,null,null,null,null,null,null,null,null,null,null,null,null,null,null," "," "," "," "," "," "," "," "]
[null,22,"0906",null,null,null,null,null,null,null,null,null,null,null,null,null,null,null,null," "," "," "," "," "," "," "," "]
[null,23,"0907",null,null,null,null,null,null,null,null,null,null,null,null,null,null,null,null," "," "," "," "," "," "," "," "]
[null,24,"0908",null,null,null,null,null,null,null,null,null,null,null,null,null,null,null,null," "," "," "," "," "," "," "," "]
[null,25,"0909",null,null,null,null,null,null,null,null,null,null,null,null,null,null,null,null," "," "," "," "," "," "," "," "]
[null,26,"0910",null,null,null,null,null,null,null,null,null,null,null,null,null,null,null,null," "," "," "," "," "," "," "," "]
[null,27,"0911",null,null,null,null,null,null,null,null,null,null,null,null,null,null,null,null," "," "," "," "," "," "," "," "]
[null,28,"0912",null,null,null,null,null,null,null,null,null,null,null,null,null,null,null,null," "," "," "," "," "," "," "," "]
[null,29,"0913",null,null,null,null,null,null,null,null,null,null,null,null,null,null,null,null," "," "," "," "," "," "," "," "]
[null,"30 - 34","0914",null,null,null,null,null,null,null,null,null,null,null,null,null,null,null,null," "," "," "," "," "," "," "," "]
[null,"35 - 39","0915",null,null,null,null,null,null,null,null,null,null,null,null,null,null,null,null," "," "," "," "," "," "," "," "]
[null,"40 a viac","0916",null,null,null,null,null,null,null,null,null,null,null,null,null,null,null,null," "," "," "," "," "," "," "," "]
["Spolu (0901 až 0916)",null,"0926",{"$f":"SUM(D38:D53)","v":0},0,0,0,0,0,0,0,0,0,0,0,0,0,0,0]
[]
["Kontrola vekovej štruktúry na odd. I. študujúci a novoprijatí podľa odborov"]
[]
[null,null,null,{"$f":"IF(SUM(D54:S54)<>SUM(D59:S59),\"Súčet študujúcich resp. novoprijatých je rôzny od súčtu podľa odborov v oranžovo vyznačených poliach\",\" \")","v":" "}]
[null,null,null,{"$f":"'I.den SR'!AJ6","v":0},{"$f":"'I.den SR'!AK6","v":0},{"$f":"'I.den cudz'!AJ6","v":0},{"$f":"'I.den cudz'!AK6","v":0},{"$f":"'I.ext SR'!AJ6","v":0},{"$f":"'I.ext SR'!AK6","v":0},{"$f":"'I.ext cudz'!AJ6","v":0},{"$f":"'I.ext cudz'!AK6","v":0},{"$f":"'I.den SR'!AL6","v":0},{"$f":"'I.den SR'!AM6","v":0},{"$f":"'I.den cudz'!AL6","v":0},{"$f":"'I.den cudz'!AM6","v":0},{"$f":"'I.ext SR'!AL6","v":0},{"$f":"'I.ext SR'!AM6","v":0},{"$f":"'I.ext cudz'!AL6","v":0},{"$f":"'I.ext cudz'!AM6","v":0}]
[]
["IX. Veková štruktúra študujúcich a novoprijatých - ",null,null,null,null,null,"I. a II. stupeň súvislé štúdium",null,null,null,null,null,null,null,null,null,null,"Fakulta",{"$f":"Identif!AV4","v":0}]
[null,null,"I.r.","Študujúci vr. novoprijatých vo forme štúdia",null,null,null,null,null,null,null,"Novoprijatí vo forme štúdia"]
["Dosiahnutý",null,null,"dennej",null,null,null,"externej",null,null,null,"dennej",null,null,null,"externej"]
["vek od 1. 1.",null,null,"slov. štátneho",null,"cudzinci",null,"slov. štátneho",null,"cudzinci",null,"slov. štátneho",null,"cudzinci",null,"slov. štátneho",null,"cudzinci",null,"Výpis chýb v oddiele IX."]
["do 31. 12.",null,null,"občianstva",null,null,null,"občianstva",null,null,null,"občianstva",null,null,null,"občianstva",null,null,null,"v jednotlivých riadkoch"]
[null,null,null,"spolu","ženy","spolu","ženy","spolu","ženy","spolu","ženy","spolu","ženy","spolu","ženy","spolu","ženy","spolu","ženy"]
["a",null,"b",1,2,3,4,5,6,7,8,9,10,11,12,13,14,15,16,{"$f":"IF(SUM(D68:S68)>0,\"Vyplnení 17-roční v žltých poliach - nepravdepodobný údaj - pravda?  Pre Ukrajinu OK\",\" \")","v":" "}]
["Študujúci a novoprijatí podľa veku (v rokoch)",17,"0901",null,null,null,null,null,null,null,null,null,null,null,null,null,null,null,null,{"$f":"IF(D68<E68,\"stĺ. 1 < stĺ. 2\",IF(F68<G68,\"stĺ. 3 < stĺ. 4\",IF(H68<I68,\"stĺ. 5 < stĺ. 6\",IF(J68<K68,\"stĺ. 7 < stĺ. 8\",\" \"))))","v":" "},{"$f":"IF(L68<M68,\"stĺ. 9 < stĺ. 10\",IF(N68<O68,\"stĺ. 11 < stĺ. 12\",IF(P68<Q68,\"stĺ. 13 < stĺ. 14\",IF(R68<S68,\"stĺ. 15 < stĺ. 16\",\" \"))))","v":" "},{"$f":"IF(D68<L68,\"stĺ. 1 < stĺ. 9\",IF(E68<M68,\"stĺ. 2 < stĺ. 10\",IF(F68<N68,\"stĺ. 3 < stĺ. 11\",IF(G68<O68,\"stĺ. 4 < stĺ. 12\",\" \"))))","v":" "},{"$f":"IF(H68<P68,\"stĺ. 5 < stĺ. 13\",IF(I68<Q68,\"stĺ. 6 < stĺ. 14\",IF(J68<R68,\"stĺ. 7 < stĺ. 15\",IF(K68<S68,\"stĺ. 8 < stĺ. 16\",\" \"))))","v":" "},{"$f":"IF(D68=L68,IF(E68<>M68,\"S1=S9 a S2<>S10\",\" \"),IF(D68-E68<L68-M68,\"Zle ženy v S10\",\" \"))","v":" "},{"$f":"IF(F68=N68,IF(G68<>O68,\"S3=S11 a S4<>S12\",\" \"),IF(F68-G68<N68-O68,\"Zle ženy v S12\",\" \"))","v":" "},{"$f":"IF(H68=P68,IF(I68<>Q68,\"S5=S13 a S6<>S14\",\" \"),IF(H68-I68<P68-Q68,\"Zle ženy v S14\",\" \"))","v":" "},{"$f":"IF(J68=R68,IF(K68<>S68,\"S7=S15 a S8<>S16\",\" \"),IF(J68-K68<R68-S68,\"Zle ženy v S16\",\" \"))","v":" "}]
[null,18,"0902",null,null,null,null,null,null,null,null,null,null,null,null,null,null,null,null,{"$f":"IF(D69<E69,\"stĺ. 1 < stĺ. 2\",IF(F69<G69,\"stĺ. 3 < stĺ. 4\",IF(H69<I69,\"stĺ. 5 < stĺ. 6\",IF(J69<K69,\"stĺ. 7 < stĺ. 8\",\" \"))))","v":" "},{"$f":"IF(L69<M69,\"stĺ. 9 < stĺ. 10\",IF(N69<O69,\"stĺ. 11 < stĺ. 12\",IF(P69<Q69,\"stĺ. 13 < stĺ. 14\",IF(R69<S69,\"stĺ. 15 < stĺ. 16\",\" \"))))","v":" "},{"$f":"IF(D69<L69,\"stĺ. 1 < stĺ. 9\",IF(E69<M69,\"stĺ. 2 < stĺ. 10\",IF(F69<N69,\"stĺ. 3 < stĺ. 11\",IF(G69<O69,\"stĺ. 4 < stĺ. 12\",\" \"))))","v":" "},{"$f":"IF(H69<P69,\"stĺ. 5 < stĺ. 13\",IF(I69<Q69,\"stĺ. 6 < stĺ. 14\",IF(J69<R69,\"stĺ. 7 < stĺ. 15\",IF(K69<S69,\"stĺ. 8 < stĺ. 16\",\" \"))))","v":" "},{"$f":"IF(D69=L69,IF(E69<>M69,\"S1=S9 a S2<>S10\",\" \"),IF(D69-E69<L69-M69,\"Zle ženy v S10\",\" \"))","v":" "},{"$f":"IF(F69=N69,IF(G69<>O69,\"S3=S11 a S4<>S12\",\" \"),IF(F69-G69<N69-O69,\"Zle ženy v S12\",\" \"))","v":" "},{"$f":"IF(H69=P69,IF(I69<>Q69,\"S5=S13 a S6<>S14\",\" \"),IF(H69-I69<P69-Q69,\"Zle ženy v S14\",\" \"))","v":" "},{"$f":"IF(J69=R69,IF(K69<>S69,\"S7=S15 a S8<>S16\",\" \"),IF(J69-K69<R69-S69,\"Zle ženy v S16\",\" \"))","v":" "}]
[null,19,"0903",null,null,null,null,null,null,null,null,null,null,null,null,null,null,null,null,{"$f":"IF(D70<E70,\"stĺ. 1 < stĺ. 2\",IF(F70<G70,\"stĺ. 3 < stĺ. 4\",IF(H70<I70,\"stĺ. 5 < stĺ. 6\",IF(J70<K70,\"stĺ. 7 < stĺ. 8\",\" \"))))","v":" "},{"$f":"IF(L70<M70,\"stĺ. 9 < stĺ. 10\",IF(N70<O70,\"stĺ. 11 < stĺ. 12\",IF(P70<Q70,\"stĺ. 13 < stĺ. 14\",IF(R70<S70,\"stĺ. 15 < stĺ. 16\",\" \"))))","v":" "}," "," "," "," "," "," "]
[null,20,"0904",null,null,null,null,null,null,null,null,null,null,null,null,null,null,null,null," "," "," "," "," "," "," "," "]
[null,21,"0905",null,null,null,null,null,null,null,null,null,null,null,null,null,null,null,null," "," "," "," "," "," "," "," "]
[null,22,"0906",null,null,null,null,null,null,null,null,null,null,null,null,null,null,null,null," "," "," "," "," "," "," "," "]
[null,23,"0907",null,null,null,null,null,null,null,null,null,null,null,null,null,null,null,null," "," "," "," "," "," "," "," "]
[null,24,"0908",null,null,null,null,null,null,null,null,null,null,null,null,null,null,null,null," "," "," "," "," "," "," "," "]
[null,25,"0909",null,null,null,null,null,null,null,null,null,null,null,null,null,null,null,null," "," "," "," "," "," "," "," "]
[null,26,"0910",null,null,null,null,null,null,null,null,null,null,null,null,null,null,null,null," "," "," "," "," "," "," "," "]
[null,27,"0911",null,null,null,null,null,null,null,null,null,null,null,null,null,null,null,null," "," "," "," "," "," "," "," "]
[null,28,"0912",null,null,null,null,null,null,null,null,null,null,null,null,null,null,null,null," "," "," "," "," "," "," "," "]
[null,29,"0913",null,null,null,null,null,null,null,null,null,null,null,null,null,null,null,null," "," "," "," "," "," "," "," "]
[null,"30 - 34","0914",null,null,null,null,null,null,null,null,null,null,null,null,null,null,null,null," "," "," "," "," "," "," "," "]
[null,"35 - 39","0915",null,null,null,null,null,null,null,null,null,null,null,null,null,null,null,null," "," "," "," "," "," "," "," "]
[null,"40 a viac","0916",null,null,null,null,null,null,null,null,null,null,null,null,null,null,null,null," "," "," "," "," "," "," "," "]
["Spolu (0901 až 0916)",null,"0926",{"$f":"SUM(D68:D83)","v":0},0,0,0,0,0,0,0,0,0,0,0,0,0,0,0]
[]
["Kontrola vekovej štruktúry na odd. I. študujúci a novoprijatí podľa odborov"]
[]
[null,null,null,{"$f":"IF(SUM(D84:S84)<>SUM(D89:S89),\"Súčet študujúcich resp. novoprijatých je rôzny od súčtu podľa odborov v oranžovo vyznačených poliach\",\" \")","v":" "}]
[null,null,null,{"$f":"'I.den SR'!AN6","v":0},{"$f":"'I.den SR'!AO6","v":0},{"$f":"'I.den cudz'!AN6","v":0},{"$f":"'I.den cudz'!AO6","v":0},{"$f":"'I.ext SR'!AN6","v":0},{"$f":"'I.ext SR'!AO6","v":0},{"$f":"'I.ext cudz'!AN6","v":0},{"$f":"'I.ext cudz'!AO6","v":0},{"$f":"'I.den SR'!AP6","v":0},{"$f":"'I.den SR'!AQ6","v":0},{"$f":"'I.den cudz'!AP6","v":0},{"$f":"'I.den cudz'!AQ6","v":0},{"$f":"'I.ext SR'!AP6","v":0},{"$f":"'I.ext SR'!AQ6","v":0},{"$f":"'I.ext cudz'!AP6","v":0},{"$f":"'I.ext cudz'!AQ6","v":0}]